BEGIN:VCALENDAR
VERSION:2.0
PRODID:-//jEvents 2.0 for Joomla//EN
CALSCALE:GREGORIAN
METHOD:PUBLISH
BEGIN:VEVENT
UID:420bf8cbec8b0a6f313ce0d1b28160e2
CATEGORIES:medicine, psychology
CREATED:20240823T122612
SUMMARY:Kalendarz szkoleń, konferencji, kursów - VII PSYCHIATRY INTERDISCIPLINARY DIALOGUES
LOCATION:Hotel ibis Styles Wrocław Centrum
URL;VALUE=URI:https://www.inconferences.com/en/events/281/vii-psychiatry-interdisciplinar
 y-dialogues.html?tmpl=component
DESCRIPTION:<p>Topics of the medical conference VII PSYCHIATRY INTERDISCIPLINARY DIALOG
 S:</p><p>• psychiatry</p><p>• psychology</p><p>Details on the Organizer's w
 ebsite.</p> <a href="https://www.inconferences.com/en/events/281/vii-psychi
 atry-interdisciplinary-dialogues.html?tmpl=component">This event was import
 ed from: https://www.inconferences.com/en/events/281/vii-psychiatry-interdi
 sciplinary-dialogues.html?tmpl=component</a>DTSTAMP:20260420T194806
DTSTART;VALUE=DATE:20241011
DTEND;VALUE=DATE:20241013
SEQUENCE:0
TRANSP:OPAQUE
END:VEVENT
END:VCALENDAR