BEGIN:VCALENDAR
VERSION:2.0
PRODID:-//jEvents 2.0 for Joomla//EN
CALSCALE:GREGORIAN
METHOD:PUBLISH
BEGIN:VEVENT
UID:32be6ee38fc589091a0f5d09136f033a
CATEGORIES:medicine
CREATED:20240826T161615
SUMMARY:Kalendarz szkoleń, konferencji, kursów - XI HOT TOPICS DIABETES
LOCATION:Mercure Gdynia Centrum
URL;VALUE=URI:https://www.inconferences.com/en/events/311/xi-hot-topics-diabetes.html?tmp
 l=component
DESCRIPTION:The subject of the medical conference XI HOT TOPICS DIABETOLOGIA is diabeto
 logy.\nDetails on the Organizer's website.\n This event was imported from: 
 https://www.inconferences.com/en/events/311/xi-hot-topics-diabetes.html?tmp
 l=component
X-ALT-DESC;FMTTYPE=text/html:<p>The subject of the medical conference XI HOT TOPICS DIABETOLOGIA is diab
 etology.</p><p>Details on the Organizer's website.</p> <a href="https://www
 .inconferences.com/en/events/311/xi-hot-topics-diabetes.html?tmpl=component
 ">This event was imported from: https://www.inconferences.com/en/events/311
 /xi-hot-topics-diabetes.html?tmpl=component</a>DTSTAMP:20260419T141644
DTSTART;VALUE=DATE:20241122
DTEND;VALUE=DATE:20241124
SEQUENCE:0
TRANSP:OPAQUE
END:VEVENT
END:VCALENDAR