BEGIN:VCALENDAR
VERSION:2.0
PRODID:-//jEvents 2.0 for Joomla//EN
CALSCALE:GREGORIAN
METHOD:PUBLISH
BEGIN:VEVENT
UID:593f76591dfcb210f9298cf403b9414a
CATEGORIES:medicine
CREATED:20240828T134007
SUMMARY:Kalendarz szkoleń, konferencji, kursów - XVI Conference Trends in Rheumatology at the Turn of 2024/2025
LOCATION:Hotel ibis Styles Wrocław Centrum
URL;VALUE=URI:https://www.inconferences.com/en/events/330/xvi-conference-trends-in-rheuma
 tology-at-the-turn-of-2024-2025.html?tmpl=component
DESCRIPTION:<p>The subject of the medical conference XVI Conference Trends in Rheumatol
 ogy at the turn of 2024/2025 is rheumatology.</p><p>Details on the Organize
 r's website.</p> <a href="https://www.inconferences.com/en/events/330/xvi-c
 onference-trends-in-rheumatology-at-the-turn-of-2024-2025.html?tmpl=compone
 nt">This event was imported from: https://www.inconferences.com/en/events/3
 30/xvi-conference-trends-in-rheumatology-at-the-turn-of-2024-2025.html?tmpl
 =component</a>DTSTAMP:20260420T195402
DTSTART;VALUE=DATE:20250320
DTEND;VALUE=DATE:20250322
SEQUENCE:0
TRANSP:OPAQUE
END:VEVENT
END:VCALENDAR