BEGIN:VCALENDAR
VERSION:2.0
PRODID:-//jEvents 2.0 for Joomla//EN
CALSCALE:GREGORIAN
METHOD:PUBLISH
BEGIN:VEVENT
UID:3d45c9b876e572405abc1701b9b81633
CATEGORIES:medicine
CREATED:20241008T104003
SUMMARY:Kalendarz szkoleń, konferencji, kursów - 7th Bieszczady Meetings with Dermatology
GEO:30;30
LOCATION:Hotel Arłamów - Arłamów 1\, Arłamów\, podkarpackie\, 38-700\, Polska
URL;VALUE=URI:https://www.inconferences.com/en/events/417/7th-bieszczady-meetings-with-de
 rmatology-geo-30-30.html?tmpl=component
DESCRIPTION:<p>We hope that the 7th edition of our meeting will enjoy as much or even m
 ore interest than the previous ones. We believe that the substantive progra
 m we have prepared will meet your expectations. Moreover, we encourage you 
 to actively participate in the event by presenting your own experiences reg
 arding its subject.</p> <a href="https://www.inconferences.com/en/events/41
 7/7th-bieszczady-meetings-with-dermatology-geo-30-30.html?tmpl=component">T
 his event was imported from: https://www.inconferences.com/en/events/417/7t
 h-bieszczady-meetings-with-dermatology-geo-30-30.html?tmpl=component</a>DTSTAMP:20260420T041635
DTSTART;VALUE=DATE:20250903
DTEND;VALUE=DATE:20250906
SEQUENCE:0
TRANSP:OPAQUE
END:VEVENT
END:VCALENDAR