BEGIN:VCALENDAR
VERSION:2.0
PRODID:-//jEvents 2.0 for Joomla//EN
CALSCALE:GREGORIAN
METHOD:PUBLISH
BEGIN:VEVENT
UID:4567a2bf0d60edfe843c75619949d9ee
CATEGORIES:medicine
CREATED:20250420T084738
SUMMARY:Kalendarz szkoleń, konferencji, kursów - Conference Casuistry CNS Medforum
LOCATION:Novotel Katowice Centrum
URL;VALUE=URI:https://www.inconferences.com/en/events/565/conference-casuistry-cns-medfor
 um.html?tmpl=component
DESCRIPTION: <a href="https://www.inconferences.com/en/events/565/conference-casuistry-
 cns-medforum.html?tmpl=component">This event was imported from: https://www
 .inconferences.com/en/events/565/conference-casuistry-cns-medforum.html?tmp
 l=component</a>DTSTAMP:20260419T183102
DTSTART;VALUE=DATE:20250530
DTEND;VALUE=DATE:20250601
SEQUENCE:0
TRANSP:OPAQUE
END:VEVENT
END:VCALENDAR