BEGIN:VCALENDAR
VERSION:2.0
PRODID:-//jEvents 2.0 for Joomla//EN
CALSCALE:GREGORIAN
METHOD:PUBLISH
BEGIN:VEVENT
UID:858f6ebbfa098b3a8375c1355439fabd
CATEGORIES:medicine, medical diagnostics
CREATED:20251211T145407
SUMMARY:Kalendarz szkoleń, konferencji, kursów - 10th NEUROforum Scientific and Training Conference
LOCATION:Hotel Mercure Lublin Centrum
URL;VALUE=URI:https://www.inconferences.com/en/events/677/10th-neuroforum-scientific-and-
 training-conference.html?tmpl=component
DESCRIPTION:<p>A nationwide scientific and training conference dedicated to neurologica
 l therapy, including aspects of neuroprotection, neuroregeneration, and neu
 rorehabilitation. Detailed information is available at neuroforum2026.skola
 med.pl.</p> <a href="https://www.inconferences.com/en/events/677/10th-neuro
 forum-scientific-and-training-conference.html?tmpl=component">This event wa
 s imported from: https://www.inconferences.com/en/events/677/10th-neuroforu
 m-scientific-and-training-conference.html?tmpl=component</a>DTSTAMP:20260419T142246
DTSTART;VALUE=DATE:20260220
DTEND;VALUE=DATE:20260222
SEQUENCE:0
TRANSP:OPAQUE
END:VEVENT
END:VCALENDAR