BEGIN:VCALENDAR
VERSION:2.0
PRODID:-//jEvents 2.0 for Joomla//EN
CALSCALE:GREGORIAN
METHOD:PUBLISH
BEGIN:VEVENT
UID:4efe3d834a3e79e0a6c5cf2988e4beab
CATEGORIES:medicine, medical diagnostics, medical technology
CREATED:20251211T150403
SUMMARY:Kalendarz szkoleń, konferencji, kursów - 17thCongress of the Polish Angiological Society
LOCATION:Novotel Katowice Centrum
URL;VALUE=URI:https://www.inconferences.com/en/events/678/17thcongress-of-the-polish-angi
 ological-society.html?tmpl=component
DESCRIPTION:The congress will showcase new diagnostic technologies, research advancemen
 ts, and advances in surgical, interventional, and pharmacological treatment
  of vascular diseases. Detailed information is available at pta2026.skolame
 d.pl.\n This event was imported from: https://www.inconferences.com/en/even
 ts/678/17thcongress-of-the-polish-angiological-society.html?tmpl=component
X-ALT-DESC;FMTTYPE=text/html:<p>The congress will showcase new diagnostic technologies, research advance
 ments, and advances in surgical, interventional, and pharmacological treatm
 ent of vascular diseases. Detailed information is available at pta2026.skol
 amed.pl.</p> <a href="https://www.inconferences.com/en/events/678/17thcongr
 ess-of-the-polish-angiological-society.html?tmpl=component">This event was 
 imported from: https://www.inconferences.com/en/events/678/17thcongress-of-
 the-polish-angiological-society.html?tmpl=component</a>DTSTAMP:20260419T182815
DTSTART;VALUE=DATE:20260320
DTEND;VALUE=DATE:20260322
SEQUENCE:0
TRANSP:OPAQUE
END:VEVENT
END:VCALENDAR