BEGIN:VCALENDAR
VERSION:2.0
PRODID:-//jEvents 2.0 for Joomla//EN
CALSCALE:GREGORIAN
METHOD:PUBLISH
BEGIN:VEVENT
UID:a3049693f95ad996648f7bf384fc2940
CATEGORIES:medycyna
CREATED:20240804T141237
SUMMARY:Kalendarz szkoleń, konferencji, kursów - III Warszawskie Forum Okulistyczne
LOCATION:Holiday Inn Resort
URL;VALUE=URI:https://www.inconferences.com/pl/o/189/iii-warszawskie-forum-okulistyczne.h
 tml?tmpl=component
DESCRIPTION:<p><br />Mamy zaszczyt i przyjemność serdecznie  zaprosić Państwa na trzeci
 ą edycję Warszawskiego Forum Okulistycznego, które odbędzie się w dniach 20
 -21 września 2024 roku w Józefowie pod Warszawą.  To wyjątkowe wydarzenie p
 o raz kolejny zgromadzi w jednym miejscu czołowych specjalistów, naukowców 
 oraz praktyków z dziedziny okulistyki.</p><p>III Warszawskie Forum Okulisty
 czne to doskonała okazja do poszerzenia swojej wiedzy, wymiany doświadczeń 
 oraz nawiązania cennych kontaktów zawodowych. Program konferencji obejmie r
 óżnorodne tematy związane z najnowszymi osiągnięciami w diagnostyce, leczen
 iu oraz technologii stosowanej w okulistyce.</p><p>Szczegółowe informacje z
 ostaną podane niebawem – zachęcamy do śledzenia strony internetowej.</p> <a
  href="https://www.inconferences.com/pl/o/189/iii-warszawskie-forum-okulist
 yczne.html?tmpl=component">This event was imported from: https://www.inconf
 erences.com/pl/o/189/iii-warszawskie-forum-okulistyczne.html?tmpl=component
 </a>DTSTAMP:20260421T191502
DTSTART;VALUE=DATE:20240920
DTEND;VALUE=DATE:20240922
SEQUENCE:0
TRANSP:OPAQUE
END:VEVENT
END:VCALENDAR