BEGIN:VCALENDAR
VERSION:2.0
PRODID:-//jEvents 2.0 for Joomla//EN
CALSCALE:GREGORIAN
METHOD:PUBLISH
BEGIN:VEVENT
UID:32be6ee38fc589091a0f5d09136f033a
CATEGORIES:medycyna
CREATED:20240826T161615
SUMMARY:Kalendarz szkoleń, konferencji, kursów - XI HOT TOPICS DIABETOLOGIA
LOCATION:Mercure Gdynia Centrum
URL;VALUE=URI:https://www.inconferences.com/pl/o/311/xi-hot-topics-diabetologia.html?tmpl
 =component
DESCRIPTION:<p>Tematyka konferencji medycznej XI HOT TOPICS DIABETOLOGIA to diabetologi
 a.</p><p>Szczegóły na stronie Organizatora.</p> <a href="https://www.inconf
 erences.com/pl/o/311/xi-hot-topics-diabetologia.html?tmpl=component">This e
 vent was imported from: https://www.inconferences.com/pl/o/311/xi-hot-topic
 s-diabetologia.html?tmpl=component</a>DTSTAMP:20260419T154126
DTSTART;VALUE=DATE:20241122
DTEND;VALUE=DATE:20241124
SEQUENCE:0
TRANSP:OPAQUE
END:VEVENT
END:VCALENDAR