BEGIN:VCALENDAR
VERSION:2.0
PRODID:-//jEvents 2.0 for Joomla//EN
CALSCALE:GREGORIAN
METHOD:PUBLISH
BEGIN:VEVENT
UID:9d9d347ff45ecd5d32914aa8249a1e96
CATEGORIES:medycyna
CREATED:20240827T135113
SUMMARY:Kalendarz szkoleń, konferencji, kursów -  PEDIATRIA W POZ 2025 WARSZTATY PRZYPADKI PRAKTYKA KLINICZNA
LOCATION:Hotel ibis Styles Wrocław Centrum
URL;VALUE=URI:https://www.inconferences.com/pl/o/319/pediatria-w-poz-2025-warsztaty-przyp
 adki-praktyka-kliniczna.html?tmpl=component
DESCRIPTION:<p>Tematyka konferencji medycznej PEDIATRIA W POZ 2025 WARSZTATY PRZYPADKI 
 PRAKTYKA KLINICZNA :</p><p>• medycyna rodzinna<br />• pediatria</p><p>Szcze
 góły na stronie Organizatora.</p> <a href="https://www.inconferences.com/pl
 /o/319/pediatria-w-poz-2025-warsztaty-przypadki-praktyka-kliniczna.html?tmp
 l=component">This event was imported from: https://www.inconferences.com/pl
 /o/319/pediatria-w-poz-2025-warsztaty-przypadki-praktyka-kliniczna.html?tmp
 l=component</a>DTSTAMP:20260420T181857
DTSTART;VALUE=DATE:20250404
DTEND;VALUE=DATE:20250406
SEQUENCE:0
TRANSP:OPAQUE
END:VEVENT
END:VCALENDAR