BEGIN:VCALENDAR
VERSION:2.0
PRODID:-//jEvents 2.0 for Joomla//EN
CALSCALE:GREGORIAN
METHOD:PUBLISH
BEGIN:VEVENT
UID:fd99d0f403dcaca3beeb2f2430ca0120
CATEGORIES:medycyna
CREATED:20240827T153137
SUMMARY:Kalendarz szkoleń, konferencji, kursów - 13 OGÓLNOPOLSKI KONGRES STARZENIA PACJENT 65+ W CODZIENNEJ PRAKTYCE LEKARSKIEJ
GEO:30;30
LOCATION:Radisson Hotel &amp; Suites Gdańsk - Chmielna 10-25\, Gdańsk\, pomorskie\, 
 80-748\, Poland
URL;VALUE=URI:https://www.inconferences.com/pl/o/321/13-ogolnopolski-kongres-starzenia-pa
 cjent-65-w-codziennej-praktyce-lekarskiej-geo-30-30.html?tmpl=component
DESCRIPTION:<p>Tematyka konferencji medycznej 13 OGÓLNOPOLSKI KONGRES STARZENIA PACJENT
  65+ W CODZIENNEJ PRAKTYCE LEKARSKIEJ :</p><p>• geriatria</p><p>Szczegóły n
 a stronie Organizatora.</p> <a href="https://www.inconferences.com/pl/o/321
 /13-ogolnopolski-kongres-starzenia-pacjent-65-w-codziennej-praktyce-lekarsk
 iej-geo-30-30.html?tmpl=component">This event was imported from: https://ww
 w.inconferences.com/pl/o/321/13-ogolnopolski-kongres-starzenia-pacjent-65-w
 -codziennej-praktyce-lekarskiej-geo-30-30.html?tmpl=component</a>DTSTAMP:20260419T170157
DTSTART;VALUE=DATE:20250612
DTEND;VALUE=DATE:20250615
SEQUENCE:0
TRANSP:OPAQUE
END:VEVENT
END:VCALENDAR