BEGIN:VCALENDAR
VERSION:2.0
PRODID:-//jEvents 2.0 for Joomla//EN
CALSCALE:GREGORIAN
METHOD:PUBLISH
BEGIN:VEVENT
UID:e38a722de16360b708a7275b3a5ff325
CATEGORIES:ekonomia, finanse, gospodarka, administracja publiczna, biznes, zarządzanie, bezpieczeństwo, obronność
CREATED:20240828T141948
SUMMARY:Kalendarz szkoleń, konferencji, kursów - PARADYGMATY W NAUKACH O ZARZĄDZANIU PARADIGMS IN MANAGEMENT SCIENCES 
LOCATION:Alumnat Restauracja i Noclegi
URL;VALUE=URI:https://www.inconferences.com/pl/o/336/paradygmaty-w-naukach-o-zarzadzaniu-
 paradigms-in-management-sciences.html?tmpl=component
DESCRIPTION:Tematyka konferencji PARADYGMATY W NAUKACH O ZARZĄDZANIU PARADIGMS IN MANAG
 EMENT SCIENCES : \n•ekonomia\n• administracja\n• finanse\n• biznes\n• zarzą
 dzanie\n• bezpieczeństwo\nSzczegóły na stronie Organizatora.\n This event w
 as imported from: https://www.inconferences.com/pl/o/336/paradygmaty-w-nauk
 ach-o-zarzadzaniu-paradigms-in-management-sciences.html?tmpl=component (htt
 ps://www.inconferences.com/pl/o/336/paradygmaty-w-naukach-o-zarzadzaniu-par
 adigms-in-management-sciences.html?tmpl=component)
X-ALT-DESC;FMTTYPE=text/html:<p>Tematyka konferencji PARADYGMATY W NAUKACH O ZARZĄDZANIU PARADIGMS IN MA
 NAGEMENT SCIENCES : </p><p>•ekonomia</p><p>• administracja</p><p>• finanse<
 /p><p>• biznes</p><p>• zarządzanie</p><p>• bezpieczeństwo</p><p>Szczegóły n
 a stronie Organizatora.</p> <a href="https://www.inconferences.com/pl/o/336
 /paradygmaty-w-naukach-o-zarzadzaniu-paradigms-in-management-sciences.html?
 tmpl=component">This event was imported from: https://www.inconferences.com
 /pl/o/336/paradygmaty-w-naukach-o-zarzadzaniu-paradigms-in-management-scien
 ces.html?tmpl=component</a>DTSTAMP:20260420T023718
DTSTART;VALUE=DATE:20240916
DTEND;VALUE=DATE:20240919
SEQUENCE:0
TRANSP:OPAQUE
END:VEVENT
END:VCALENDAR