BEGIN:VCALENDAR
VERSION:2.0
PRODID:-//jEvents 2.0 for Joomla//EN
CALSCALE:GREGORIAN
METHOD:PUBLISH
BEGIN:VEVENT
UID:0b2f37dbf94c9a7c1c2163b0fca8184b
CATEGORIES:medycyna
CREATED:20240828T154050
SUMMARY:Kalendarz szkoleń, konferencji, kursów - Od genetyki do kliniki
LOCATION:Hotel Hilton Gdańsk
URL;VALUE=URI:https://www.inconferences.com/pl/o/345/od-genetyki-do-kliniki.html?tmpl=com
 ponent
DESCRIPTION:<p>Tematyka konferencji medycznej Od genetyki do kliniki to onkologia klini
 czna, onkologia.</p><p>Szczegóły na stronie Organizatora.</p> <a href="http
 s://www.inconferences.com/pl/o/345/od-genetyki-do-kliniki.html?tmpl=compone
 nt">This event was imported from: https://www.inconferences.com/pl/o/345/od
 -genetyki-do-kliniki.html?tmpl=component</a>DTSTAMP:20260421T132729
DTSTART;VALUE=DATE:20240920
DTEND;VALUE=DATE:20240922
SEQUENCE:0
TRANSP:OPAQUE
END:VEVENT
END:VCALENDAR