BEGIN:VCALENDAR
VERSION:2.0
PRODID:-//jEvents 2.0 for Joomla//EN
CALSCALE:GREGORIAN
METHOD:PUBLISH
BEGIN:VEVENT
UID:8a2672442fbe10c29c80e6d6e6c08c16
CATEGORIES:medycyna
CREATED:20240828T154941
SUMMARY:Kalendarz szkoleń, konferencji, kursów - Hematologia i hemostaza — spotkanie 4
LOCATION:Instytut Hematologii i Transfuzjologii
URL;VALUE=URI:https://www.inconferences.com/pl/o/348/hematologia-i-hemostaza-spotkanie-4.
 html?tmpl=component
DESCRIPTION:Tematyka konferencji medycznej Hematologia i hemostaza — spotkanie 4 to tra
 nsfuzjologia, hematologia.\nSzczegóły na stronie Organizatora.\n This event
  was imported from: https://www.inconferences.com/pl/o/348/hematologia-i-he
 mostaza-spotkanie-4.html?tmpl=component (https://www.inconferences.com/pl/o
 /348/hematologia-i-hemostaza-spotkanie-4.html?tmpl=component)
X-ALT-DESC;FMTTYPE=text/html:<p>Tematyka konferencji medycznej Hematologia i hemostaza — spotkanie 4 to 
 transfuzjologia, hematologia.</p><p>Szczegóły na stronie Organizatora.</p> 
 <a href="https://www.inconferences.com/pl/o/348/hematologia-i-hemostaza-spo
 tkanie-4.html?tmpl=component">This event was imported from: https://www.inc
 onferences.com/pl/o/348/hematologia-i-hemostaza-spotkanie-4.html?tmpl=compo
 nent</a>DTSTAMP:20260421T162446
DTSTART;VALUE=DATE:20240926
DTEND;VALUE=DATE:20240927
SEQUENCE:0
TRANSP:OPAQUE
END:VEVENT
END:VCALENDAR