BEGIN:VCALENDAR
VERSION:2.0
PRODID:-//jEvents 2.0 for Joomla//EN
CALSCALE:GREGORIAN
METHOD:PUBLISH
BEGIN:VEVENT
UID:d08d8bcbf9cc0acb34e78f077a653d6f
CATEGORIES:medycyna
CREATED:20240828T161707
SUMMARY:Kalendarz szkoleń, konferencji, kursów - 19. Zjazd Polskiego Towarzystwa Nadciśnienia Tętniczego
LOCATION:Warszawa - brak szegółów
URL;VALUE=URI:https://www.inconferences.com/pl/o/355/19-zjazd-polskiego-towarzystwa-nadci
 snienia-tetniczego.html?tmpl=component
DESCRIPTION:Tematyka konferencji medycznej 19. Zjazd Polskiego Towarzystwa Nadciśnienia
  Tętniczego to kardiologia, hipertensjologia, choroby wewnętrzne.\nSzczegół
 y na stronie Organizatora.\n This event was imported from: https://www.inco
 nferences.com/pl/o/355/19-zjazd-polskiego-towarzystwa-nadcisnienia-tetnicze
 go.html?tmpl=component
X-ALT-DESC;FMTTYPE=text/html:<p>Tematyka konferencji medycznej 19. Zjazd Polskiego Towarzystwa Nadciśnie
 nia Tętniczego to kardiologia, hipertensjologia, choroby wewnętrzne.</p><p>
 Szczegóły na stronie Organizatora.</p> <a href="https://www.inconferences.c
 om/pl/o/355/19-zjazd-polskiego-towarzystwa-nadcisnienia-tetniczego.html?tmp
 l=component">This event was imported from: https://www.inconferences.com/pl
 /o/355/19-zjazd-polskiego-towarzystwa-nadcisnienia-tetniczego.html?tmpl=com
 ponent</a>DTSTAMP:20260421T162430
DTSTART;VALUE=DATE:20241024
DTEND;VALUE=DATE:20241027
SEQUENCE:0
TRANSP:OPAQUE
END:VEVENT
END:VCALENDAR