BEGIN:VCALENDAR
VERSION:2.0
PRODID:-//jEvents 2.0 for Joomla//EN
CALSCALE:GREGORIAN
METHOD:PUBLISH
BEGIN:VEVENT
UID:9fec2a7cfaa95bd5640d72be47e11929
CATEGORIES:medycyna
CREATED:20240828T162050
SUMMARY:Kalendarz szkoleń, konferencji, kursów - Niepożądane działania podczas leczenia przeciwnowotworowego — przeciwdziałanie, rozpoznawanie i leczenie
LOCATION:Kielce - brak szegółów
URL;VALUE=URI:https://www.inconferences.com/pl/o/357/niepozadane-dzialania-podczas-leczen
 ia-przeciwnowotworowego-przeciwdzialanie-rozpoznawanie-i-leczenie.html?tmpl
 =component
DESCRIPTION:Tematyka konferencji medycznej Niepożądane działania podczas leczenia przec
 iwnowotworowego — przeciwdziałanie, rozpoznawanie i leczenie to radioterapi
 a onkologiczna, chirurgia onkologiczna, ginekologia onkologiczna, onkologia
 .\nSzczegóły na stronie Organizatora.\n This event was imported from: https
 ://www.inconferences.com/pl/o/357/niepozadane-dzialania-podczas-leczenia-pr
 zeciwnowotworowego-przeciwdzialanie-rozpoznawanie-i-leczenie.html?tmpl=comp
 onent (https://www.inconferences.com/pl/o/357/niepozadane-dzialania-podczas
 -leczenia-przeciwnowotworowego-przeciwdzialanie-rozpoznawanie-i-leczenie.ht
 ml?tmpl=component)
X-ALT-DESC;FMTTYPE=text/html:<p>Tematyka konferencji medycznej Niepożądane działania podczas leczenia pr
 zeciwnowotworowego — przeciwdziałanie, rozpoznawanie i leczenie to radioter
 apia onkologiczna, chirurgia onkologiczna, ginekologia onkologiczna, onkolo
 gia.</p><p>Szczegóły na stronie Organizatora.</p> <a href="https://www.inco
 nferences.com/pl/o/357/niepozadane-dzialania-podczas-leczenia-przeciwnowotw
 orowego-przeciwdzialanie-rozpoznawanie-i-leczenie.html?tmpl=component">This
  event was imported from: https://www.inconferences.com/pl/o/357/niepozadan
 e-dzialania-podczas-leczenia-przeciwnowotworowego-przeciwdzialanie-rozpozna
 wanie-i-leczenie.html?tmpl=component</a>DTSTAMP:20260421T125710
DTSTART;VALUE=DATE:20241026
DTEND;VALUE=DATE:20241027
SEQUENCE:0
TRANSP:OPAQUE
END:VEVENT
END:VCALENDAR