BEGIN:VCALENDAR
VERSION:2.0
PRODID:-//jEvents 2.0 for Joomla//EN
CALSCALE:GREGORIAN
METHOD:PUBLISH
BEGIN:VEVENT
UID:d632b9bb0a599e50bdff8d4748eb3e6b
CATEGORIES:medycyna
CREATED:20240828T165949
SUMMARY:Kalendarz szkoleń, konferencji, kursów - Akademia Czerniaka 2024
LOCATION:Qubus Hotel Kielce
URL;VALUE=URI:https://www.inconferences.com/pl/o/359/akademia-czerniaka-2024.html?tmpl=co
 mponent
DESCRIPTION:Tematyka konferencji medycznej Akademia Czerniaka 2024 to radioterapia onko
 logiczna, chirurgia onkologiczna, dermatologia.\nSzczegóły na stronie Organ
 izatora.\n This event was imported from: https://www.inconferences.com/pl/o
 /359/akademia-czerniaka-2024.html?tmpl=component (https://www.inconferences
 .com/pl/o/359/akademia-czerniaka-2024.html?tmpl=component)
X-ALT-DESC;FMTTYPE=text/html:<p>Tematyka konferencji medycznej Akademia Czerniaka 2024 to radioterapia o
 nkologiczna, chirurgia onkologiczna, dermatologia.</p><p>Szczegóły na stron
 ie Organizatora.</p> <a href="https://www.inconferences.com/pl/o/359/akadem
 ia-czerniaka-2024.html?tmpl=component">This event was imported from: https:
 //www.inconferences.com/pl/o/359/akademia-czerniaka-2024.html?tmpl=componen
 t</a>DTSTAMP:20260421T132404
DTSTART;VALUE=DATE:20241108
DTEND;VALUE=DATE:20241109
SEQUENCE:0
TRANSP:OPAQUE
END:VEVENT
END:VCALENDAR