BEGIN:VCALENDAR
VERSION:2.0
PRODID:-//jEvents 2.0 for Joomla//EN
CALSCALE:GREGORIAN
METHOD:PUBLISH
BEGIN:VEVENT
UID:998029857458e353adb38c0bdeb22ca7
CATEGORIES:medycyna
CREATED:20240829T123134
SUMMARY:Kalendarz szkoleń, konferencji, kursów - Hematologia i hemostaza — spotkanie 6
LOCATION:Instytut Hematologii i Transfuzjologii
URL;VALUE=URI:https://www.inconferences.com/pl/o/363/hematologia-i-hemostaza-spotkanie-6.
 html?tmpl=component
DESCRIPTION:Tematyka konferencji medycznej Hematologia i hemostaza — spotkanie 6 to tra
 nsfuzjologia, hematologia.\nSzczegóły na stronie Organizatora.\n This event
  was imported from: https://www.inconferences.com/pl/o/363/hematologia-i-he
 mostaza-spotkanie-6.html?tmpl=component (https://www.inconferences.com/pl/o
 /363/hematologia-i-hemostaza-spotkanie-6.html?tmpl=component)
X-ALT-DESC;FMTTYPE=text/html:<p>Tematyka konferencji medycznej Hematologia i hemostaza — spotkanie 6 to 
 transfuzjologia, hematologia.</p><p>Szczegóły na stronie Organizatora.</p> 
 <a href="https://www.inconferences.com/pl/o/363/hematologia-i-hemostaza-spo
 tkanie-6.html?tmpl=component">This event was imported from: https://www.inc
 onferences.com/pl/o/363/hematologia-i-hemostaza-spotkanie-6.html?tmpl=compo
 nent</a>DTSTAMP:20260421T132502
DTSTART;VALUE=DATE:20241121
DTEND;VALUE=DATE:20241122
SEQUENCE:0
TRANSP:OPAQUE
END:VEVENT
END:VCALENDAR