BEGIN:VCALENDAR
VERSION:2.0
PRODID:-//jEvents 2.0 for Joomla//EN
CALSCALE:GREGORIAN
METHOD:PUBLISH
BEGIN:VEVENT
UID:bc8b40f0167a66a1bafd553001a9875b
CATEGORIES:medycyna
CREATED:20240829T123733
SUMMARY:Kalendarz szkoleń, konferencji, kursów - Wytyczne diagnostyczno-terapeutyczne w nowotworach złośliwych
LOCATION:Narodowy Instytut Onkologii
URL;VALUE=URI:https://www.inconferences.com/pl/o/364/wytyczne-diagnostyczno-terapeutyczne
 -w-nowotworach-zlosliwych.html?tmpl=component
DESCRIPTION:Tematyka konferencji medycznej Wytyczne diagnostyczno-terapeutyczne w nowot
 worach złośliwych to radioterapia onkologiczna,  chirurgia onkologiczna, on
 kologia.\nSzczegóły na stronie Organizatora.\n This event was imported from
 : https://www.inconferences.com/pl/o/364/wytyczne-diagnostyczno-terapeutycz
 ne-w-nowotworach-zlosliwych.html?tmpl=component (https://www.inconferences.
 com/pl/o/364/wytyczne-diagnostyczno-terapeutyczne-w-nowotworach-zlosliwych.
 html?tmpl=component)
X-ALT-DESC;FMTTYPE=text/html:<p>Tematyka konferencji medycznej Wytyczne diagnostyczno-terapeutyczne w no
 wotworach złośliwych to radioterapia onkologiczna,  chirurgia onkologiczna,
  onkologia.</p><p>Szczegóły na stronie Organizatora.</p> <a href="https://w
 ww.inconferences.com/pl/o/364/wytyczne-diagnostyczno-terapeutyczne-w-nowotw
 orach-zlosliwych.html?tmpl=component">This event was imported from: https:/
 /www.inconferences.com/pl/o/364/wytyczne-diagnostyczno-terapeutyczne-w-nowo
 tworach-zlosliwych.html?tmpl=component</a>DTSTAMP:20260421T150629
DTSTART;VALUE=DATE:20241121
DTEND;VALUE=DATE:20241122
SEQUENCE:0
TRANSP:OPAQUE
END:VEVENT
END:VCALENDAR