BEGIN:VCALENDAR
VERSION:2.0
PRODID:-//jEvents 2.0 for Joomla//EN
CALSCALE:GREGORIAN
METHOD:PUBLISH
BEGIN:VEVENT
UID:2b4b733dab8b8cfce84c5d81a49aa125
CATEGORIES:medycyna
CREATED:20240829T124306
SUMMARY:Kalendarz szkoleń, konferencji, kursów -  XIII Konferencja Postępy Terapii Przeciwkrzepliwej i Przeciwpłytkowej
LOCATION:Warszawa - brak szegółów
URL;VALUE=URI:https://www.inconferences.com/pl/o/365/xiii-konferencja-postepy-terapii-prz
 eciwkrzepliwej-i-przeciwplytkowej.html?tmpl=component
DESCRIPTION:Tematyka konferencji medycznej XIII Konferencja Postępy Terapii Przeciwkrze
 pliwej i Przeciwpłytkowej kardiologia, hipertensjologia, choroby układu krą
 żenia, choroby wewnętrzne.\nSzczegóły na stronie Organizatora.\n This event
  was imported from: https://www.inconferences.com/pl/o/365/xiii-konferencja
 -postepy-terapii-przeciwkrzepliwej-i-przeciwplytkowej.html?tmpl=component (
 https://www.inconferences.com/pl/o/365/xiii-konferencja-postepy-terapii-prz
 eciwkrzepliwej-i-przeciwplytkowej.html?tmpl=component)
X-ALT-DESC;FMTTYPE=text/html:<p>Tematyka konferencji medycznej XIII Konferencja Postępy Terapii Przeciwk
 rzepliwej i Przeciwpłytkowej kardiologia, hipertensjologia, choroby układu 
 krążenia, choroby wewnętrzne.</p><p>Szczegóły na stronie Organizatora.</p> 
 <a href="https://www.inconferences.com/pl/o/365/xiii-konferencja-postepy-te
 rapii-przeciwkrzepliwej-i-przeciwplytkowej.html?tmpl=component">This event 
 was imported from: https://www.inconferences.com/pl/o/365/xiii-konferencja-
 postepy-terapii-przeciwkrzepliwej-i-przeciwplytkowej.html?tmpl=component</a
 >DTSTAMP:20260421T162549
DTSTART;VALUE=DATE:20241129
DTEND;VALUE=DATE:20241201
SEQUENCE:0
TRANSP:OPAQUE
END:VEVENT
END:VCALENDAR