BEGIN:VCALENDAR
VERSION:2.0
PRODID:-//jEvents 2.0 for Joomla//EN
CALSCALE:GREGORIAN
METHOD:PUBLISH
BEGIN:VEVENT
UID:1fda5dd6061ab2886594968da006e074
CATEGORIES:medycyna
CREATED:20240829T130431
SUMMARY:Kalendarz szkoleń, konferencji, kursów - Nowe repetytorium z kardiologii — co ważnego na progu 2025 roku? dla przyszłych i obecnych kardiologów
LOCATION:Warszawa - brak szegółów
URL;VALUE=URI:https://www.inconferences.com/pl/o/369/nowe-repetytorium-z-kardiologii-co-w
 aznego-na-progu-2025-roku-dla-przyszlych-i-obecnych-kardiologow.html?tmpl=c
 omponent
DESCRIPTION:Tematyka konferencji medycznej Nowe repetytorium z kardiologii — co ważnego
  na progu 2025 roku? dla przyszłych i obecnych kardiologów to kardiologia, 
 hipertensjologia, choroby układu krążenia, choroby wewnętrzne.\nSzczegóły n
 a stronie Organizatora.\n This event was imported from: https://www.inconfe
 rences.com/pl/o/369/nowe-repetytorium-z-kardiologii-co-waznego-na-progu-202
 5-roku-dla-przyszlych-i-obecnych-kardiologow.html?tmpl=component (https://w
 ww.inconferences.com/pl/o/369/nowe-repetytorium-z-kardiologii-co-waznego-na
 -progu-2025-roku-dla-przyszlych-i-obecnych-kardiologow.html?tmpl=component)
X-ALT-DESC;FMTTYPE=text/html:<p>Tematyka konferencji medycznej Nowe repetytorium z kardiologii — co ważn
 ego na progu 2025 roku? dla przyszłych i obecnych kardiologów to kardiologi
 a, hipertensjologia, choroby układu krążenia, choroby wewnętrzne.</p><p>Szc
 zegóły na stronie Organizatora.</p> <a href="https://www.inconferences.com/
 pl/o/369/nowe-repetytorium-z-kardiologii-co-waznego-na-progu-2025-roku-dla-
 przyszlych-i-obecnych-kardiologow.html?tmpl=component">This event was impor
 ted from: https://www.inconferences.com/pl/o/369/nowe-repetytorium-z-kardio
 logii-co-waznego-na-progu-2025-roku-dla-przyszlych-i-obecnych-kardiologow.h
 tml?tmpl=component</a>DTSTAMP:20260421T162646
DTSTART;VALUE=DATE:20241213
DTEND;VALUE=DATE:20241215
SEQUENCE:0
TRANSP:OPAQUE
END:VEVENT
END:VCALENDAR