BEGIN:VCALENDAR
VERSION:2.0
PRODID:-//jEvents 2.0 for Joomla//EN
CALSCALE:GREGORIAN
METHOD:PUBLISH
BEGIN:VEVENT
UID:8c25a749d65fff6766b4a312c792f695
CATEGORIES:medycyna
CREATED:20240829T130735
SUMMARY:Kalendarz szkoleń, konferencji, kursów - XX KONFERENCJA EDUKACYJNA ONKOLOGIA W PRAKTYCE KLINICZNEJ
LOCATION:Hotel Courtyard by Marriott Warsaw Airport
URL;VALUE=URI:https://www.inconferences.com/pl/o/370/xx-konferencja-edukacyjna-onkologia-
 w-praktyce-klinicznej.html?tmpl=component
DESCRIPTION:Tematyka konferencji medycznej XX KONFERENCJA EDUKACYJNA ONKOLOGIA W PRAKTY
 CE KLINICZNEJ to onkologia.\nSzczegóły na stronie Organizatora.\n This even
 t was imported from: https://www.inconferences.com/pl/o/370/xx-konferencja-
 edukacyjna-onkologia-w-praktyce-klinicznej.html?tmpl=component (https://www
 .inconferences.com/pl/o/370/xx-konferencja-edukacyjna-onkologia-w-praktyce-
 klinicznej.html?tmpl=component)
X-ALT-DESC;FMTTYPE=text/html:<p>Tematyka konferencji medycznej XX KONFERENCJA EDUKACYJNA ONKOLOGIA W PRA
 KTYCE KLINICZNEJ to onkologia.</p><p>Szczegóły na stronie Organizatora.</p>
  <a href="https://www.inconferences.com/pl/o/370/xx-konferencja-edukacyjna-
 onkologia-w-praktyce-klinicznej.html?tmpl=component">This event was importe
 d from: https://www.inconferences.com/pl/o/370/xx-konferencja-edukacyjna-on
 kologia-w-praktyce-klinicznej.html?tmpl=component</a>DTSTAMP:20260421T161627
DTSTART;VALUE=DATE:20250227
DTEND;VALUE=DATE:20250302
SEQUENCE:0
TRANSP:OPAQUE
END:VEVENT
END:VCALENDAR