BEGIN:VCALENDAR
VERSION:2.0
PRODID:-//jEvents 2.0 for Joomla//EN
CALSCALE:GREGORIAN
METHOD:PUBLISH
BEGIN:VEVENT
UID:7dcbbbb7cdb76dabec8c299b5a9f8207
CATEGORIES:psychologia, zarządzanie, filozofia, teologia, etyka, edukacja, rozwój osobisty, pedagogika, dziennikarstwo, media, komunikacja społeczna, bezpieczeństwo, obronność, socjologia, antropologia
CREATED:20240829T144047
SUMMARY:Kalendarz szkoleń, konferencji, kursów - II MIĘDZYNARODOWY KONGRES PSYCHOLOGII STOSOWANEJ Współczesne wyzwania dla zdrowia psychicznego
LOCATION:Blue&amp;Green Baltic Hotel MediSPA&amp;fit
URL;VALUE=URI:https://www.inconferences.com/pl/o/372/ii-miedzynarodowy-kongres-psychologi
 i-stosowanej-wspolczesne-wyzwania-dla-zdrowia-psychicznego.html?tmpl=compon
 ent
DESCRIPTION:<p>Tematyka konferencji medycznej II MIĘDZYNARODOWY KONGRES PSYCHOLOGII STO
 SOWANEJ Współczesne wyzwania dla zdrowia psychicznego to filozofia, socjolo
 gia, pedagogika, psychologia, zarządzanie, media, teologia.</p><p>Szczegóły
  na stronie Organizatora.</p> <a href="https://www.inconferences.com/pl/o/3
 72/ii-miedzynarodowy-kongres-psychologii-stosowanej-wspolczesne-wyzwania-dl
 a-zdrowia-psychicznego.html?tmpl=component">This event was imported from: h
 ttps://www.inconferences.com/pl/o/372/ii-miedzynarodowy-kongres-psychologii
 -stosowanej-wspolczesne-wyzwania-dla-zdrowia-psychicznego.html?tmpl=compone
 nt</a>DTSTAMP:20260421T111628
DTSTART;VALUE=DATE:20241106
DTEND;VALUE=DATE:20241109
SEQUENCE:0
TRANSP:OPAQUE
END:VEVENT
END:VCALENDAR