BEGIN:VCALENDAR
VERSION:2.0
PRODID:-//jEvents 2.0 for Joomla//EN
CALSCALE:GREGORIAN
METHOD:PUBLISH
BEGIN:VEVENT
UID:e3c86f13e736f4a4a5eb796906a3879b
CATEGORIES:biologia, mikrobiologia, ekologia, ochrona środowiska, geografia, oceanografia, geologia, geofizyka, geochemia, rolnictwo
CREATED:20240830T142132
SUMMARY:Kalendarz szkoleń, konferencji, kursów - I Kongres Polskiej Unii Czwartorzędu POLQUA: Czwartorzęd Karpat Zachodnich: od morfogenezy po rejestr zmian paleośrodowiska w osadach
LOCATION:Akademia Górniczo-Hutnicza im. Stanisława Staszica w Krakowie
URL;VALUE=URI:https://www.inconferences.com/pl/o/380/i-kongres-polskiej-unii-czwartorzedu
 -polqua-czwartorzed-karpat-zachodnich-od-morfogenezy-po-rejestr-zmian-paleo
 srodowiska-w-osadach.html?tmpl=component
DESCRIPTION:<p>Tematyka konferencji I Kongres Polskiej Unii Czwartorzędu POLQUA: Czwart
 orzęd Karpat Zachodnich: od morfogenezy po rejestr zmian paleośrodowiska w 
 osadach to biologia, rolnictwo, nauki ścisłe, geografia, nauki humanistyczn
 e.</p><p>Szczegóły na stronie Organizatora.</p> <a href="https://www.inconf
 erences.com/pl/o/380/i-kongres-polskiej-unii-czwartorzedu-polqua-czwartorze
 d-karpat-zachodnich-od-morfogenezy-po-rejestr-zmian-paleosrodowiska-w-osada
 ch.html?tmpl=component">This event was imported from: https://www.inconfere
 nces.com/pl/o/380/i-kongres-polskiej-unii-czwartorzedu-polqua-czwartorzed-k
 arpat-zachodnich-od-morfogenezy-po-rejestr-zmian-paleosrodowiska-w-osadach.
 html?tmpl=component</a>DTSTAMP:20260420T011705
DTSTART;VALUE=DATE:20240902
DTEND;VALUE=DATE:20240907
SEQUENCE:0
TRANSP:OPAQUE
END:VEVENT
END:VCALENDAR