BEGIN:VCALENDAR
VERSION:2.0
PRODID:-//jEvents 2.0 for Joomla//EN
CALSCALE:GREGORIAN
METHOD:PUBLISH
BEGIN:VEVENT
UID:acf95617f3d015f1132e1977a3d5174e
CATEGORIES:medycyna
CREATED:20241008T101615
SUMMARY:Kalendarz szkoleń, konferencji, kursów - III Śląskie Dni Dermatologiczne "Od bajtla do omy - łosprawiomy o skórze"
LOCATION:Vienna House Easy BY WYNDHAM
URL;VALUE=URI:https://www.inconferences.com/pl/o/414/iii-slaskie-dni-dermatologiczne-od-b
 ajtla-do-omy-losprawiomy-o-skorze.html?tmpl=component
DESCRIPTION:Wychodząc naprzeciw Państwa oczekiwaniom, współtworzymy wydarzenie, podczas
  którego nie zabraknie dermatologii „w każdym wieku”, a także spotkań z czo
 łowymi wykładowcami z kraju i z zagranicy.\nŚląskie Dni Dermatologiczne wyp
 ełnią wykłady oraz kursy szkoleniowe z zakresu dermatologii i dermatologii 
 dziecięcej. Konferencję wyróżnia, obok aspektu naukowego i edukacyjnego, ró
 wnież praktyczny i towarzyski charakter. Dołożymy wszelkich starań, aby udz
 iał w spotkaniu był dla Państwa owocny i stanowił źródło rzetelnej i aktual
 nej wiedzy.\nMamy nadzieję, że zdecydujecie się Państwo tworzyć razem z nam
 i ten wyjątkowy projekt i na stałe zagości on w kalendarzu wydarzeń dermato
 logicznych.\nŚwietna lokalizacja Hotelu Vienna House z pewnością pozwoli po
 czuć serce Katowic przy jednoczesnej bliskości ważnych punktów naszej aglom
 eracji.\nKonferencja ma na celu ukazanie istoty współpracy lekarza dermatol
 oga z lekarzami innych specjalizacji takich jak alergologia, onkologia, end
 okrynologia, pediatria, psychiatria. Wierzymy, że przygotowany program mery
 toryczny, jak również forma spotkania spełnią Państwa oczekiwania. Mamy nad
 zieję, że nadchodzące wydarzenie umożliwi wspólną wymiany wiedzy i doświadc
 zeń.\n This event was imported from: https://www.inconferences.com/pl/o/414
 /iii-slaskie-dni-dermatologiczne-od-bajtla-do-omy-losprawiomy-o-skorze.html
 ?tmpl=component
X-ALT-DESC;FMTTYPE=text/html:<p>Wychodząc naprzeciw Państwa oczekiwaniom, współtworzymy wydarzenie, podc
 zas którego nie zabraknie dermatologii „w każdym wieku”, a także spotkań z 
 czołowymi wykładowcami z kraju i z zagranicy.</p><p>Śląskie Dni Dermatologi
 czne wypełnią wykłady oraz kursy szkoleniowe z zakresu dermatologii i derma
 tologii dziecięcej. Konferencję wyróżnia, obok aspektu naukowego i edukacyj
 nego, również praktyczny i towarzyski charakter. Dołożymy wszelkich starań,
  aby udział w spotkaniu był dla Państwa owocny i stanowił źródło rzetelnej 
 i aktualnej wiedzy.</p><p>Mamy nadzieję, że zdecydujecie się Państwo tworzy
 ć razem z nami ten wyjątkowy projekt i na stałe zagości on w kalendarzu wyd
 arzeń dermatologicznych.</p><p>Świetna lokalizacja Hotelu Vienna House z pe
 wnością pozwoli poczuć serce Katowic przy jednoczesnej bliskości ważnych pu
 nktów naszej aglomeracji.</p><p>Konferencja ma na celu ukazanie istoty wspó
 łpracy lekarza dermatologa z lekarzami innych specjalizacji takich jak aler
 gologia, onkologia, endokrynologia, pediatria, psychiatria. Wierzymy, że pr
 zygotowany program merytoryczny, jak również forma spotkania spełnią Państw
 a oczekiwania. Mamy nadzieję, że nadchodzące wydarzenie umożliwi wspólną wy
 miany wiedzy i doświadczeń.</p> <a href="https://www.inconferences.com/pl/o
 /414/iii-slaskie-dni-dermatologiczne-od-bajtla-do-omy-losprawiomy-o-skorze.
 html?tmpl=component">This event was imported from: https://www.inconference
 s.com/pl/o/414/iii-slaskie-dni-dermatologiczne-od-bajtla-do-omy-losprawiomy
 -o-skorze.html?tmpl=component</a>DTSTAMP:20260420T185919
DTSTART;VALUE=DATE:20250410
DTEND;VALUE=DATE:20250413
SEQUENCE:0
TRANSP:OPAQUE
END:VEVENT
END:VCALENDAR