BEGIN:VCALENDAR
VERSION:2.0
PRODID:-//jEvents 2.0 for Joomla//EN
CALSCALE:GREGORIAN
METHOD:PUBLISH
BEGIN:VEVENT
UID:01ac5470d79b1abcb305fafd1b53a110
CATEGORIES:medycyna, fizjoterapia, rehabilitacja, diagnostyka medyczna
CREATED:20241105T114745
SUMMARY:Kalendarz szkoleń, konferencji, kursów - III Konferencja 'Płuca, Serce, Stawy'
LOCATION:Hotel Gołębiewski\, Białystok
URL;VALUE=URI:https://www.inconferences.com/pl/o/438/iii-konferencja-pluca-serce-stawy.ht
 ml?tmpl=component
DESCRIPTION:Szanowni Państwo,\nKoleżanki i Koledzy,\nw imieniu własnym oraz Komitetu Or
 ganizacyjnego zapraszamy serdecznie do udziału w III-ciej edycji Konferencj
 i pt „”Płuca, serce i stawy”, która odbędzie się w Białymstoku w dniach 16-
 18 stycznia 2025. Tym razem chcemy położyć szczególny nacisk na znaczenie w
 czesnego rozpoznania zapalnych chorób stawów oraz układowych chorób autoimm
 unologicznych.\nZapalne choroby stawów oraz układowe choroby autoimmunologi
 czne zwykle zaczynają się w wieku młodym lub dojrzałym, a ich niekorzystne 
 skutki mają ogromne i długotrwałe konsekwencje indywidulane i społeczne w p
 ostaci: niepełnosprawności, skrócenia czasu życia oraz wysokich kosztów. Z 
 drugiej strony bardzo dynamiczny rozwój nowoczesnych metod leczenia, jakieg
 o jesteśmy świadkami w ciągu ostatnich lat, daje szansę na skuteczną walkę 
 ze skutkami tych chorób. Podstawowym warunkiem skuteczności leczenia jest w
 czesne rozpoznanie choroby oraz wczesne wdrożenie odpowiedniego postępowani
 a, co stwarza szansę na zapobieżenie rozwojowi nieodwracalnych skutków taki
 ch jak destrukcja stawów i/lub uszkodzenie narządów wewnętrznych, a w konse
 kwencji – uchronienie przed rozwojem niepełnosprawności lub przedwczesną śm
 iercią. Niestety, wciąż mamy do czynienia z poważnymi opóźnianiami w tym za
 kresie. Opóźnienia te mają różne przyczyny. W czasie nadchodzącej konferenc
 ji chcemy wspólnie zastanowić się jak możemy to zmienić. Stąd motto tej edy
 cji Konferencji: „Wczesne rozpoznanie ma znaczenie” oraz zaproszenie do udz
 iału lekarzy podstawowej opieki zdrowotnej, którzy mają decydujące znaczeni
 e we właściwym wyborze ścieżki diagnostycznej.\nPlanujemy również poruszeni
 e innych, istotnych problemów związanych z leczeniem chorób reumatycznych, 
 takich jak kwestia infekcji i szczepień u chorych z chorobami autoimmunolog
 icznymi i/lub leczonych immunosupresyjnie, ryzyko rozwoju chorób autoimmuno
 logicznych po ekspozycji na środki chemiczne (implanty, tatuaże, itp.), wpł
 yw COVID19 na ryzyko rozwoju chorób autoimmunologicznych, leczenie bólu, be
 zpieczeństwoczy indywidualizacja leczenia NLPZ i glikokortykosteroidami, pr
 ofilaktyka i leczenie osteoporozy.\nZostaną również przedstawione założenia
  programu pilotażowego w zakresie kompleksowej opieki nad świadczeniobiorcą
  z wczesnym zapaleniem stawów. W tym kontekście chcemy dyskutować nad współ
 pracą pomiędzy reumatologiem a lekarzami POZ oraz współpracą w ramach zespo
 łu interdyscyplinarnego w celu zapewnienia optymalnej opieki chorym z układ
 owymi chorobami reumatycznymi.\nW związku z powyższym do udziału w Konferen
 cji zapraszamy specjalistów reumatologów, lekarzy rodzinnych oraz specjalis
 tów wszystkich dziedzin, zajmujących się opieką nad pacjentami z chorobami 
 reumatycznymi.\nPodobnie jak w czasie poprzednich edycji Konferencji, progr
 am naukowy Konferencji obejmował będzie, obok wykładów plenarnych, dyskusje
  „okrągłego stołu”, prezentacje ciekawych przypadków klinicznych oraz sesje
  interaktywne. Konferencja będzie miała charakter interdyscyplinarny, z udz
 iałem wybitnych ekspertów.\nTych z Państwa, którzy nie będą mogli wziąć udz
 iału osobiście zapraszamy do udziału online.\n\n \nProf. dr hab. med. Otyli
 a Kowal-Bielecka\nPrzewodnicząca Komitetu Organizacyjnego Konferencji\n Thi
 s event was imported from: https://www.inconferences.com/pl/o/438/iii-konfe
 rencja-pluca-serce-stawy.html?tmpl=component (https://www.inconferences.com
 /pl/o/438/iii-konferencja-pluca-serce-stawy.html?tmpl=component)
X-ALT-DESC;FMTTYPE=text/html:<p>Szanowni Państwo,<br />Koleżanki i Koledzy,</p><p>w imieniu własnym oraz
  Komitetu Organizacyjnego zapraszamy serdecznie do udziału w III-ciej edycj
 i Konferencji pt „”Płuca, serce i stawy”, która odbędzie się w Białymstoku 
 w dniach 16-18 stycznia 2025. Tym razem chcemy położyć szczególny nacisk na
  znaczenie wczesnego rozpoznania zapalnych chorób stawów oraz układowych ch
 orób autoimmunologicznych.</p><p>Zapalne choroby stawów oraz układowe choro
 by autoimmunologiczne zwykle zaczynają się w wieku młodym lub dojrzałym, a 
 ich niekorzystne skutki mają ogromne i długotrwałe konsekwencje indywidulan
 e i społeczne w postaci: niepełnosprawności, skrócenia czasu życia oraz wys
 okich kosztów. Z drugiej strony bardzo dynamiczny rozwój nowoczesnych metod
  leczenia, jakiego jesteśmy świadkami w ciągu ostatnich lat, daje szansę na
  skuteczną walkę ze skutkami tych chorób. Podstawowym warunkiem skutecznośc
 i leczenia jest wczesne rozpoznanie choroby oraz wczesne wdrożenie odpowied
 niego postępowania, co stwarza szansę na zapobieżenie rozwojowi nieodwracal
 nych skutków takich jak destrukcja stawów i/lub uszkodzenie narządów wewnęt
 rznych, a w konsekwencji – uchronienie przed rozwojem niepełnosprawności lu
 b przedwczesną śmiercią. Niestety, wciąż mamy do czynienia z poważnymi opóź
 nianiami w tym zakresie. Opóźnienia te mają różne przyczyny. W czasie nadch
 odzącej konferencji chcemy wspólnie zastanowić się jak możemy to zmienić. S
 tąd motto tej edycji Konferencji: „Wczesne rozpoznanie ma znaczenie” oraz z
 aproszenie do udziału lekarzy podstawowej opieki zdrowotnej, którzy mają de
 cydujące znaczenie we właściwym wyborze ścieżki diagnostycznej.</p><p>Planu
 jemy również poruszenie innych, istotnych problemów związanych z leczeniem 
 chorób reumatycznych, takich jak kwestia infekcji i szczepień u chorych z c
 horobami autoimmunologicznymi i/lub leczonych immunosupresyjnie, ryzyko roz
 woju chorób autoimmunologicznych po ekspozycji na środki chemiczne (implant
 y, tatuaże, itp.), wpływ COVID19 na ryzyko rozwoju chorób autoimmunologiczn
 ych, leczenie bólu, bezpieczeństwoczy indywidualizacja leczenia NLPZ i glik
 okortykosteroidami, profilaktyka i leczenie osteoporozy.</p><p>Zostaną równ
 ież przedstawione założenia programu pilotażowego w zakresie kompleksowej o
 pieki nad świadczeniobiorcą z wczesnym zapaleniem stawów. W tym kontekście 
 chcemy dyskutować nad współpracą pomiędzy reumatologiem a lekarzami POZ ora
 z współpracą w ramach zespołu interdyscyplinarnego w celu zapewnienia optym
 alnej opieki chorym z układowymi chorobami reumatycznymi.</p><p>W związku z
  powyższym do udziału w Konferencji zapraszamy specjalistów reumatologów, l
 ekarzy rodzinnych oraz specjalistów wszystkich dziedzin, zajmujących się op
 ieką nad pacjentami z chorobami reumatycznymi.<br />Podobnie jak w czasie p
 oprzednich edycji Konferencji, program naukowy Konferencji obejmował będzie
 , obok wykładów plenarnych, dyskusje „okrągłego stołu”, prezentacje ciekawy
 ch przypadków klinicznych oraz sesje interaktywne. Konferencja będzie miała
  charakter interdyscyplinarny, z udziałem wybitnych ekspertów.</p><p>Tych z
  Państwa, którzy nie będą mogli wziąć udziału osobiście zapraszamy do udzia
 łu online.</p><p><br /> <br />Prof. dr hab. med. Otylia Kowal-Bielecka<br /
 >Przewodnicząca Komitetu Organizacyjnego Konferencji</p> <a href="https://w
 ww.inconferences.com/pl/o/438/iii-konferencja-pluca-serce-stawy.html?tmpl=c
 omponent">This event was imported from: https://www.inconferences.com/pl/o/
 438/iii-konferencja-pluca-serce-stawy.html?tmpl=component</a>DTSTAMP:20260420T023653
DTSTART;VALUE=DATE:20250116
DTEND;VALUE=DATE:20250119
SEQUENCE:0
TRANSP:OPAQUE
END:VEVENT
END:VCALENDAR