BEGIN:VCALENDAR
VERSION:2.0
PRODID:-//jEvents 2.0 for Joomla//EN
CALSCALE:GREGORIAN
METHOD:PUBLISH
BEGIN:VEVENT
UID:810fe5ac0a3abb13205eb07c48ac406c
CATEGORIES:medycyna
CREATED:20250108T085631
SUMMARY:Kalendarz szkoleń, konferencji, kursów - 'Niepłodność, Płodność, Ciąża' Ogólnopolska Konferencja Ginekologiczno-Położnicza
LOCATION:Hotel Courtyard by Marriott Warsaw Airport
URL;VALUE=URI:https://www.inconferences.com/pl/o/462/nieplodnosc-plodnosc-ciaza-ogolnopol
 ska-konferencja-ginekologiczno-poloznicza.html?tmpl=component
DESCRIPTION:Podczas intensywnych godzin obrad na sali wykładowej wspólnie zajmiemy się 
 praktycznymi aspektami postępowania z kobietami planującymi zajść w ciążę i
  tymi, które muszą odłożyć swoje macierzyńskie plany na przyszłość. Podjęte
  zostaną tematy związane z zastosowaniem najnowszej generacji leków hormona
 lnych zarówno w zakresie antykoncepcji, jak i leczenia endometriozy, adenom
 iozy czy mięśniaków macicy. Poświęcimy naszą uwagę tematowi porad i postępo
 wania przedkoncepcyjnego związanego z zastosowaniem głównie badań genetyczn
 ych. Wybitni specjaliści przedyskutują najnowsze wskazania w zakresie diagn
 ostyki przedimplantacyjnej i prenatalnej. Nie zapomnimy o ciąży już po lecz
 eniu niepłodności, a także o procedurze in vitro i metodach z zakresu tzw. 
 sztucznej inteligencji. Na konkretnych przypadkach klinicznych z naszych wł
 asnych praktyk, przedstawimy kluczowe elementy najnowszych rekomendacji ESH
 RE w zakresie zespołu policystycznych jajników, poronień nawracających, end
 ometriozy czy też przedwczesnego wygaśnięcia funkcji jajników. Praktyczny a
 spekt Wydarzenia zostanie dodatkowo wsparty dzięki spotkaniu z prawnikami, 
 gdzie omówimy wady i zalety ustawy o leczeniu niepłodności oraz wspólnie za
 stanowimy się nad ewentualnymi zmianami, które pomogłyby poprawić możliwośc
 i diagnostyczne i terapeutyczne w postępowaniu z naszymi pacjentami.\n This
  event was imported from: https://www.inconferences.com/pl/o/462/nieplodnos
 c-plodnosc-ciaza-ogolnopolska-konferencja-ginekologiczno-poloznicza.html?tm
 pl=component (https://www.inconferences.com/pl/o/462/nieplodnosc-plodnosc-c
 iaza-ogolnopolska-konferencja-ginekologiczno-poloznicza.html?tmpl=component
 )
X-ALT-DESC;FMTTYPE=text/html:<p>Podczas intensywnych godzin obrad na sali wykładowej wspólnie zajmiemy s
 ię praktycznymi aspektami postępowania z kobietami planującymi zajść w ciąż
 ę i tymi, które muszą odłożyć swoje macierzyńskie plany na przyszłość. Podj
 ęte zostaną tematy związane z zastosowaniem najnowszej generacji leków horm
 onalnych zarówno w zakresie antykoncepcji, jak i leczenia endometriozy, ade
 nomiozy czy mięśniaków macicy. Poświęcimy naszą uwagę tematowi porad i post
 ępowania przedkoncepcyjnego związanego z zastosowaniem głównie badań genety
 cznych. Wybitni specjaliści przedyskutują najnowsze wskazania w zakresie di
 agnostyki przedimplantacyjnej i prenatalnej. Nie zapomnimy o ciąży już po l
 eczeniu niepłodności, a także o procedurze in vitro i metodach z zakresu tz
 w. sztucznej inteligencji. Na konkretnych przypadkach klinicznych z naszych
  własnych praktyk, przedstawimy kluczowe elementy najnowszych rekomendacji 
 ESHRE w zakresie zespołu policystycznych jajników, poronień nawracających, 
 endometriozy czy też przedwczesnego wygaśnięcia funkcji jajników. Praktyczn
 y aspekt Wydarzenia zostanie dodatkowo wsparty dzięki spotkaniu z prawnikam
 i, gdzie omówimy wady i zalety ustawy o leczeniu niepłodności oraz wspólnie
  zastanowimy się nad ewentualnymi zmianami, które pomogłyby poprawić możliw
 ości diagnostyczne i terapeutyczne w postępowaniu z naszymi pacjentami.</p>
  <a href="https://www.inconferences.com/pl/o/462/nieplodnosc-plodnosc-ciaza
 -ogolnopolska-konferencja-ginekologiczno-poloznicza.html?tmpl=component">Th
 is event was imported from: https://www.inconferences.com/pl/o/462/nieplodn
 osc-plodnosc-ciaza-ogolnopolska-konferencja-ginekologiczno-poloznicza.html?
 tmpl=component</a>DTSTAMP:20260421T162528
DTSTART;VALUE=DATE:20250516
DTEND;VALUE=DATE:20250518
SEQUENCE:0
TRANSP:OPAQUE
END:VEVENT
END:VCALENDAR