BEGIN:VCALENDAR
VERSION:2.0
PRODID:-//jEvents 2.0 for Joomla//EN
CALSCALE:GREGORIAN
METHOD:PUBLISH
BEGIN:VEVENT
UID:babaf9ec3136d7045790d0e0ddd26328
CATEGORIES:medycyna, pielęgniarstwo, położnictwo, diagnostyka medyczna, technologia medyczna
CREATED:20250204T113129
SUMMARY:Kalendarz szkoleń, konferencji, kursów - I Bałtyckie Forum Dermatologii, Wenerologii i Alergologii - 80-lecie Kliniki DWiA Gdańskiego Uniwersytetu Medycznego
GEO:30;30
LOCATION:Radisson Hotel &amp; Suites Gdańsk - Chmielna 10-25\, Gdańsk\, pomorskie\, 
 80-748\, Poland
URL;VALUE=URI:https://www.inconferences.com/pl/o/478/i-baltyckie-forum-dermatologii-wener
 ologii-i-alergologii-80-lecie-kliniki-dwia-gdanskiego-uniwersytetu-medyczne
 go-geo-30-30.html?tmpl=component
DESCRIPTION:Z okazji Jubileuszu 80-lecia Kliniki Dermatologii, Wenerologii i Alergologi
 i Gdańskiego Uniwersytetu Medycznego i Uniwersyteckiego Centrum Klinicznego
  serdecznie zapraszamy Państwa do udziału w I Bałtyckim Forum DWiA – uroczy
 stym spotkaniu jubileuszowym, które odbędzie się w dniach 15-17 maja 2025 r
 oku w Gdańsku.\nOstatnie lata to ogromna dynamika działań Gdańskiej Kliniki
 . Jest ona cenionym partnerem dla alergologów (poradnia leczenia alergiczny
 ch chorób skóry), onkologów (Centrum Leczenia Czerniaka, poradnia diagnosty
 ki nowotworów skóry), lekarzy chorób zakaźnych (poradnia chorób przenoszony
 ch drogą płciową), hematologów (poradnia leczenia chłoniaków), pediatrów i 
 alergologów (poradnia leczenia mastocytozy), urologów (poradnia leczenia pr
 ącia), rozwija nowe inicjatywy kierowane do pacjentów (pracownia mikroskopi
 i konfokalnej i dermoskopii), kreuje nowe metody edukacji lekarzy różnych s
 pecjalności, współpracuje z polskimi i międzynarodowymi klinikami dermatolo
 gicznymi i alergologicznymi.\nI Bałtyckie Forum DWiA będzie podsumowaniem h
 istorii Kliniki oraz ostatnich lat jej działalności klinicznej i naukowej. 
  Aby uczcić Jubileusz 80-lecia przygotowaliśmy dla Państwa:\n\n - PRAKTYCZN
 E WARSZTATY SZKOLENIOWE,\n - INTERDYSCYPLINARNE SESJE TEMATYCZNE OD NOWOCZE
 SNEJ FARMAKOTERAPII I DERMATOONKOLOGII PO DERMATOLOGIĘ DZIECIĘCĄ,\n - POKAZ
  WYBRANYCH PRZYPADKÓW KLINICZNYCH,\n - SESJE SATELITARNE.Zapraszamy do Gdań
 ska specjalistów i ekspertów dermatologii, wenerologii i alergologii, a tak
 że: pediatrów, specjalistów medycyny rodzinnej, lekarzy podstawowej opieki 
 zdrowotnej oraz wszystkich lekarzy praktyków, którzy pragną uaktualnić i po
 szerzyć swoją wiedzę w zakresie rozpoznawania i nowoczesnego leczenia choró
 b skóry.\n\nSzczegóły na stronie internetowej wydarzenia!\n This event was 
 imported from: https://www.inconferences.com/pl/o/478/i-baltyckie-forum-der
 matologii-wenerologii-i-alergologii-80-lecie-kliniki-dwia-gdanskiego-uniwer
 sytetu-medycznego-geo-30-30.html?tmpl=component (https://www.inconferences.
 com/pl/o/478/i-baltyckie-forum-dermatologii-wenerologii-i-alergologii-80-le
 cie-kliniki-dwia-gdanskiego-uniwersytetu-medycznego-geo-30-30.html?tmpl=com
 ponent)
X-ALT-DESC;FMTTYPE=text/html:<p>Z okazji Jubileuszu <em>80-lecia Kliniki Dermatologii, Wenerologii i Ale
 rgologii Gdańskiego Uniwersytetu Medycznego i Uniwersyteckiego Centrum Klin
 icznego</em> serdecznie zapraszamy Państwa do udziału w <strong>I Bałtyckim
  Forum DWiA </strong>– uroczystym spotkaniu jubileuszowym, które odbędzie s
 ię w dniach <strong>15-17 maja 2025 roku w Gdańsku</strong>.</p><p>Ostatnie
  lata to ogromna dynamika działań Gdańskiej Kliniki. Jest ona cenionym part
 nerem dla alergologów (poradnia leczenia alergicznych chorób skóry), onkolo
 gów (Centrum Leczenia Czerniaka, poradnia diagnostyki nowotworów skóry), le
 karzy chorób zakaźnych (poradnia chorób przenoszonych drogą płciową), hemat
 ologów (poradnia leczenia chłoniaków), pediatrów i alergologów (poradnia le
 czenia mastocytozy), urologów (poradnia leczenia prącia), rozwija nowe inic
 jatywy kierowane do pacjentów (pracownia mikroskopii konfokalnej i dermosko
 pii), kreuje nowe metody edukacji lekarzy różnych specjalności, współpracuj
 e z polskimi i międzynarodowymi klinikami dermatologicznymi i alergologiczn
 ymi.</p><p>I Bałtyckie Forum DWiA będzie podsumowaniem historii Kliniki ora
 z ostatnich lat jej działalności klinicznej i naukowej.  Aby uczcić Jubileu
 sz 80-lecia przygotowaliśmy dla Państwa:</p><ul><li>PRAKTYCZNE WARSZTATY SZ
 KOLENIOWE,</li><li>INTERDYSCYPLINARNE SESJE TEMATYCZNE OD NOWOCZESNEJ FARMA
 KOTERAPII I DERMATOONKOLOGII PO DERMATOLOGIĘ DZIECIĘCĄ,</li><li>POKAZ WYBRA
 NYCH PRZYPADKÓW KLINICZNYCH,</li><li>SESJE SATELITARNE.</li></ul><p>Zaprasz
 amy do Gdańska specjalistów i ekspertów dermatologii, wenerologii i alergol
 ogii, a także: pediatrów, specjalistów medycyny rodzinnej, lekarzy podstawo
 wej opieki zdrowotnej oraz wszystkich lekarzy praktyków, którzy pragną uakt
 ualnić i poszerzyć swoją wiedzę w zakresie rozpoznawania i nowoczesnego lec
 zenia chorób skóry.</p><p></p><p>Szczegóły na stronie internetowej wydarzen
 ia!</p> <a href="https://www.inconferences.com/pl/o/478/i-baltyckie-forum-d
 ermatologii-wenerologii-i-alergologii-80-lecie-kliniki-dwia-gdanskiego-uniw
 ersytetu-medycznego-geo-30-30.html?tmpl=component">This event was imported 
 from: https://www.inconferences.com/pl/o/478/i-baltyckie-forum-dermatologii
 -wenerologii-i-alergologii-80-lecie-kliniki-dwia-gdanskiego-uniwersytetu-me
 dycznego-geo-30-30.html?tmpl=component</a>DTSTAMP:20260419T171038
DTSTART;VALUE=DATE:20250515
DTEND;VALUE=DATE:20250518
SEQUENCE:0
TRANSP:OPAQUE
END:VEVENT
END:VCALENDAR