BEGIN:VCALENDAR
VERSION:2.0
PRODID:-//jEvents 2.0 for Joomla//EN
CALSCALE:GREGORIAN
METHOD:PUBLISH
BEGIN:VEVENT
UID:e5e9fc4da48707e0471f8196b880c5b3
CATEGORIES:medycyna
CREATED:20250406T104730
SUMMARY:Kalendarz szkoleń, konferencji, kursów - VIII Psychiatria. Dialogi interdyscyplinarne.
LOCATION:Hotel ibis Styles Wrocław Centrum
URL;VALUE=URI:https://www.inconferences.com/pl/o/523/viii-psychiatria-dialogi-interdyscyp
 linarne.html?tmpl=component
DESCRIPTION: <a href="https://www.inconferences.com/pl/o/523/viii-psychiatria-dialogi-i
 nterdyscyplinarne.html?tmpl=component">This event was imported from: https:
 //www.inconferences.com/pl/o/523/viii-psychiatria-dialogi-interdyscyplinarn
 e.html?tmpl=component</a>DTSTAMP:20260420T181805
DTSTART;VALUE=DATE:20251010
DTEND;VALUE=DATE:20251012
SEQUENCE:0
TRANSP:OPAQUE
END:VEVENT
END:VCALENDAR