BEGIN:VCALENDAR
VERSION:2.0
PRODID:-//jEvents 2.0 for Joomla//EN
CALSCALE:GREGORIAN
METHOD:PUBLISH
BEGIN:VEVENT
UID:2a13315db7a5e516c14a4ed46529284b
CATEGORIES:medycyna
CREATED:20250406T105735
SUMMARY:Kalendarz szkoleń, konferencji, kursów - Breat Design Days
LOCATION:DoubleTree by Hilton
URL;VALUE=URI:https://www.inconferences.com/pl/o/527/breat-design-days.html?tmpl=componen
 t
DESCRIPTION: This event was imported from: https://www.inconferences.com/pl/o/527/breat
 -design-days.html?tmpl=component (https://www.inconferences.com/pl/o/527/br
 eat-design-days.html?tmpl=component)
X-ALT-DESC;FMTTYPE=text/html: <a href="https://www.inconferences.com/pl/o/527/breat-design-days.html?tmp
 l=component">This event was imported from: https://www.inconferences.com/pl
 /o/527/breat-design-days.html?tmpl=component</a>DTSTAMP:20260420T133245
DTSTART;VALUE=DATE:20251024
DTEND;VALUE=DATE:20251026
SEQUENCE:0
TRANSP:OPAQUE
END:VEVENT
END:VCALENDAR