BEGIN:VCALENDAR
VERSION:2.0
PRODID:-//jEvents 2.0 for Joomla//EN
CALSCALE:GREGORIAN
METHOD:PUBLISH
BEGIN:VEVENT
UID:c803232c04a6b6823507dbd549fc0420
CATEGORIES:medycyna
CREATED:20250406T110847
SUMMARY:Kalendarz szkoleń, konferencji, kursów - XII HOT TOPIC DIABETOLOGIA
LOCATION:Mercure Gdynia Centrum
URL;VALUE=URI:https://www.inconferences.com/pl/o/532/xii-hot-topic-diabetologia.html?tmpl
 =component
DESCRIPTION: This event was imported from: https://www.inconferences.com/pl/o/532/xii-h
 ot-topic-diabetologia.html?tmpl=component (https://www.inconferences.com/pl
 /o/532/xii-hot-topic-diabetologia.html?tmpl=component)
X-ALT-DESC;FMTTYPE=text/html: <a href="https://www.inconferences.com/pl/o/532/xii-hot-topic-diabetologia
 .html?tmpl=component">This event was imported from: https://www.inconferenc
 es.com/pl/o/532/xii-hot-topic-diabetologia.html?tmpl=component</a>DTSTAMP:20260419T182752
DTSTART;VALUE=DATE:20251121
DTEND;VALUE=DATE:20251123
SEQUENCE:0
TRANSP:OPAQUE
END:VEVENT
END:VCALENDAR