BEGIN:VCALENDAR
VERSION:2.0
PRODID:-//jEvents 2.0 for Joomla//EN
CALSCALE:GREGORIAN
METHOD:PUBLISH
BEGIN:VEVENT
UID:ad8f0bef445809adaa8dfffa3fb5b087
CATEGORIES:medycyna
CREATED:20250407T150357
SUMMARY:Kalendarz szkoleń, konferencji, kursów - KONFERENCJA IV SYMPURON — SYMPATYCZNE, MERYTORYCZNE, WIELODYSCYPLINARNE SYMPOZJUM UROONKOLOGICZNE 2025 
LOCATION:Mercure Gdynia Centrum
URL;VALUE=URI:https://www.inconferences.com/pl/o/537/konferencja-iv-sympuron-sympatyczne-
 merytoryczne-wielodyscyplinarne-sympozjum-uroonkologiczne-2025.html?tmpl=co
 mponent
DESCRIPTION: <a href="https://www.inconferences.com/pl/o/537/konferencja-iv-sympuron-sy
 mpatyczne-merytoryczne-wielodyscyplinarne-sympozjum-uroonkologiczne-2025.ht
 ml?tmpl=component">This event was imported from: https://www.inconferences.
 com/pl/o/537/konferencja-iv-sympuron-sympatyczne-merytoryczne-wielodyscypli
 narne-sympozjum-uroonkologiczne-2025.html?tmpl=component</a>DTSTAMP:20260419T184137
DTSTART;VALUE=DATE:20250516
DTEND;VALUE=DATE:20250518
SEQUENCE:0
TRANSP:OPAQUE
END:VEVENT
END:VCALENDAR