BEGIN:VCALENDAR
VERSION:2.0
PRODID:-//jEvents 2.0 for Joomla//EN
CALSCALE:GREGORIAN
METHOD:PUBLISH
BEGIN:VEVENT
UID:556881c1b05d4ba3f3a9ce76405abca4
CATEGORIES:medycyna
CREATED:20250407T151726
SUMMARY:Kalendarz szkoleń, konferencji, kursów - Top of the Top Ginekologia i Położnictwo 2025
LOCATION:Novotel Gdańsk Marina
URL;VALUE=URI:https://www.inconferences.com/pl/o/541/top-of-the-top-ginekologia-i-polozni
 ctwo-2025.html?tmpl=component
DESCRIPTION: <a href="https://www.inconferences.com/pl/o/541/top-of-the-top-ginekologia
 -i-poloznictwo-2025.html?tmpl=component">This event was imported from: http
 s://www.inconferences.com/pl/o/541/top-of-the-top-ginekologia-i-poloznictwo
 -2025.html?tmpl=component</a>DTSTAMP:20260421T162956
DTSTART;VALUE=DATE:20250523
DTEND;VALUE=DATE:20250525
SEQUENCE:0
TRANSP:OPAQUE
END:VEVENT
END:VCALENDAR