BEGIN:VCALENDAR
VERSION:2.0
PRODID:-//jEvents 2.0 for Joomla//EN
CALSCALE:GREGORIAN
METHOD:PUBLISH
BEGIN:VEVENT
UID:03fc75158dcd32cd0ac195f675766b81
CATEGORIES:medycyna
CREATED:20250407T152858
SUMMARY:Kalendarz szkoleń, konferencji, kursów - Kompetentni we Wrocławiu 2025
LOCATION:Politechnika Wrocławska\, Sala Rektorska (Budynek H14)
URL;VALUE=URI:https://www.inconferences.com/pl/o/545/kompetentni-we-wroclawiu-2025.html?t
 mpl=component
DESCRIPTION: <a href="https://www.inconferences.com/pl/o/545/kompetentni-we-wroclawiu-2
 025.html?tmpl=component">This event was imported from: https://www.inconfer
 ences.com/pl/o/545/kompetentni-we-wroclawiu-2025.html?tmpl=component</a>DTSTAMP:20260421T135644
DTSTART;VALUE=DATE:20250613
DTEND;VALUE=DATE:20250615
SEQUENCE:0
TRANSP:OPAQUE
END:VEVENT
END:VCALENDAR