BEGIN:VCALENDAR
VERSION:2.0
PRODID:-//jEvents 2.0 for Joomla//EN
CALSCALE:GREGORIAN
METHOD:PUBLISH
BEGIN:VEVENT
UID:3607f54e46a90ac05a44353239baa8d0
CATEGORIES:medycyna
CREATED:20250408T150259
SUMMARY:Kalendarz szkoleń, konferencji, kursów - X Konferencja czasopism: Forum Reumatologiczne Edukacja i Rheumatology Forum — EULAR HOT NEWS 2025
LOCATION:Mercure Gdynia Centrum
URL;VALUE=URI:https://www.inconferences.com/pl/o/548/x-konferencja-czasopism-forum-reumat
 ologiczne-edukacja-i-rheumatology-forum-eular-hot-news-2025.html?tmpl=compo
 nent
DESCRIPTION: <a href="https://www.inconferences.com/pl/o/548/x-konferencja-czasopism-fo
 rum-reumatologiczne-edukacja-i-rheumatology-forum-eular-hot-news-2025.html?
 tmpl=component">This event was imported from: https://www.inconferences.com
 /pl/o/548/x-konferencja-czasopism-forum-reumatologiczne-edukacja-i-rheumato
 logy-forum-eular-hot-news-2025.html?tmpl=component</a>DTSTAMP:20260419T182938
DTSTART;VALUE=DATE:20250627
DTEND;VALUE=DATE:20250629
SEQUENCE:0
TRANSP:OPAQUE
END:VEVENT
END:VCALENDAR