BEGIN:VCALENDAR
VERSION:2.0
PRODID:-//jEvents 2.0 for Joomla//EN
CALSCALE:GREGORIAN
METHOD:PUBLISH
BEGIN:VEVENT
UID:e9cbfbed62473830506577e47ed9a3a6
CATEGORIES:medycyna
CREATED:20250408T151218
SUMMARY:Kalendarz szkoleń, konferencji, kursów - Warsaw Skin Cancer Conference 2025
LOCATION:Hotel Courtyard by Marriott Warsaw Airport
URL;VALUE=URI:https://www.inconferences.com/pl/o/551/warsaw-skin-cancer-conference-2025.h
 tml?tmpl=component
DESCRIPTION: This event was imported from: https://www.inconferences.com/pl/o/551/warsa
 w-skin-cancer-conference-2025.html?tmpl=component
X-ALT-DESC;FMTTYPE=text/html: <a href="https://www.inconferences.com/pl/o/551/warsaw-skin-cancer-confere
 nce-2025.html?tmpl=component">This event was imported from: https://www.inc
 onferences.com/pl/o/551/warsaw-skin-cancer-conference-2025.html?tmpl=compon
 ent</a>DTSTAMP:20260421T162549
DTSTART;VALUE=DATE:20251003
DTEND;VALUE=DATE:20251005
SEQUENCE:0
TRANSP:OPAQUE
END:VEVENT
END:VCALENDAR