BEGIN:VCALENDAR
VERSION:2.0
PRODID:-//jEvents 2.0 for Joomla//EN
CALSCALE:GREGORIAN
METHOD:PUBLISH
BEGIN:VEVENT
UID:98894ad808ca2153b820f3c483b13fa5
CATEGORIES:medycyna
CREATED:20250408T151512
SUMMARY:Kalendarz szkoleń, konferencji, kursów - Niepożądane działania podczas leczenia przeciwnowotworowego – przeciwdziałanie, rozpoznawanie i leczenie
LOCATION:Courtyard by Marriott Katowice City Center
URL;VALUE=URI:https://www.inconferences.com/pl/o/552/niepozadane-dzialania-podczas-leczen
 ia-przeciwnowotworowego-przeciwdzialanie-rozpoznawanie-i-leczenie.html?tmpl
 =component
DESCRIPTION: This event was imported from: https://www.inconferences.com/pl/o/552/niepo
 zadane-dzialania-podczas-leczenia-przeciwnowotworowego-przeciwdzialanie-roz
 poznawanie-i-leczenie.html?tmpl=component (https://www.inconferences.com/pl
 /o/552/niepozadane-dzialania-podczas-leczenia-przeciwnowotworowego-przeciwd
 zialanie-rozpoznawanie-i-leczenie.html?tmpl=component)
X-ALT-DESC;FMTTYPE=text/html: <a href="https://www.inconferences.com/pl/o/552/niepozadane-dzialania-podc
 zas-leczenia-przeciwnowotworowego-przeciwdzialanie-rozpoznawanie-i-leczenie
 .html?tmpl=component">This event was imported from: https://www.inconferenc
 es.com/pl/o/552/niepozadane-dzialania-podczas-leczenia-przeciwnowotworowego
 -przeciwdzialanie-rozpoznawanie-i-leczenie.html?tmpl=component</a>DTSTAMP:20260420T041820
DTSTART;VALUE=DATE:20251004
DTEND;VALUE=DATE:20251005
SEQUENCE:0
TRANSP:OPAQUE
END:VEVENT
END:VCALENDAR