BEGIN:VCALENDAR
VERSION:2.0
PRODID:-//jEvents 2.0 for Joomla//EN
CALSCALE:GREGORIAN
METHOD:PUBLISH
BEGIN:VEVENT
UID:d499742dec21bbc35008acf789fc1aa2
CATEGORIES:medycyna
CREATED:20250408T151834
SUMMARY:Kalendarz szkoleń, konferencji, kursów - Ratunkowa2025.PL
LOCATION:Muzeum II Wojny Światowej w Gdańsku
URL;VALUE=URI:https://www.inconferences.com/pl/o/553/ratunkowa2025-pl.html?tmpl=component
DESCRIPTION: <a href="https://www.inconferences.com/pl/o/553/ratunkowa2025-pl.html?tmpl
 =component">This event was imported from: https://www.inconferences.com/pl/
 o/553/ratunkowa2025-pl.html?tmpl=component</a>DTSTAMP:20260421T132735
DTSTART;VALUE=DATE:20251024
DTEND;VALUE=DATE:20251026
SEQUENCE:0
TRANSP:OPAQUE
END:VEVENT
END:VCALENDAR