BEGIN:VCALENDAR
VERSION:2.0
PRODID:-//jEvents 2.0 for Joomla//EN
CALSCALE:GREGORIAN
METHOD:PUBLISH
BEGIN:VEVENT
UID:19388a2bd0a86b3888861032679c352b
CATEGORIES:medycyna
CREATED:20250408T152342
SUMMARY:Kalendarz szkoleń, konferencji, kursów - Akademia czerniaka | Elbląg
LOCATION:Focus Hotel Premium Elbląg
URL;VALUE=URI:https://www.inconferences.com/pl/o/555/akademia-czerniaka-elblag.html?tmpl=
 component
DESCRIPTION: <a href="https://www.inconferences.com/pl/o/555/akademia-czerniaka-elblag.
 html?tmpl=component">This event was imported from: https://www.inconference
 s.com/pl/o/555/akademia-czerniaka-elblag.html?tmpl=component</a>DTSTAMP:20260421T132735
DTSTART;VALUE=DATE:20251121
DTEND;VALUE=DATE:20251122
SEQUENCE:0
TRANSP:OPAQUE
END:VEVENT
END:VCALENDAR