BEGIN:VCALENDAR
VERSION:2.0
PRODID:-//jEvents 2.0 for Joomla//EN
CALSCALE:GREGORIAN
METHOD:PUBLISH
BEGIN:VEVENT
UID:3359828da5259bb8235d123e605ba2c2
CATEGORIES:medycyna
CREATED:20250409T140150
SUMMARY:Kalendarz szkoleń, konferencji, kursów - 9. Kurs Wydziału Neurologii Kliniki Mayo na temat zaburzeń ruchu, demencji, stwardnienia rozsianego, zespołów paraneoplastycznych i bólów głowy
LOCATION:Courtyard by Marriott Katowice City Center
URL;VALUE=URI:https://www.inconferences.com/pl/o/557/9-kurs-wydzialu-neurologii-kliniki-m
 ayo-na-temat-zaburzen-ruchu-demencji-stwardnienia-rozsianego-zespolow-paran
 eoplastycznych-i-bolow-glowy.html?tmpl=component
DESCRIPTION: This event was imported from: https://www.inconferences.com/pl/o/557/9-kur
 s-wydzialu-neurologii-kliniki-mayo-na-temat-zaburzen-ruchu-demencji-stwardn
 ienia-rozsianego-zespolow-paraneoplastycznych-i-bolow-glowy.html?tmpl=compo
 nent (https://www.inconferences.com/pl/o/557/9-kurs-wydzialu-neurologii-kli
 niki-mayo-na-temat-zaburzen-ruchu-demencji-stwardnienia-rozsianego-zespolow
 -paraneoplastycznych-i-bolow-glowy.html?tmpl=component)
X-ALT-DESC;FMTTYPE=text/html: <a href="https://www.inconferences.com/pl/o/557/9-kurs-wydzialu-neurologii
 -kliniki-mayo-na-temat-zaburzen-ruchu-demencji-stwardnienia-rozsianego-zesp
 olow-paraneoplastycznych-i-bolow-glowy.html?tmpl=component">This event was 
 imported from: https://www.inconferences.com/pl/o/557/9-kurs-wydzialu-neuro
 logii-kliniki-mayo-na-temat-zaburzen-ruchu-demencji-stwardnienia-rozsianego
 -zespolow-paraneoplastycznych-i-bolow-glowy.html?tmpl=component</a>DTSTAMP:20260420T011115
DTSTART;VALUE=DATE:20250626
DTEND;VALUE=DATE:20250628
SEQUENCE:0
TRANSP:OPAQUE
END:VEVENT
END:VCALENDAR