BEGIN:VCALENDAR
VERSION:2.0
PRODID:-//jEvents 2.0 for Joomla//EN
CALSCALE:GREGORIAN
METHOD:PUBLISH
BEGIN:VEVENT
UID:4567a2bf0d60edfe843c75619949d9ee
CATEGORIES:medycyna
CREATED:20250420T084738
SUMMARY:Kalendarz szkoleń, konferencji, kursów - Konferencja Kazuistyka CNS Medforum
LOCATION:Novotel Katowice Centrum
URL;VALUE=URI:https://www.inconferences.com/pl/o/565/konferencja-kazuistyka-cns-medforum.
 html?tmpl=component
DESCRIPTION: This event was imported from: https://www.inconferences.com/pl/o/565/konfe
 rencja-kazuistyka-cns-medforum.html?tmpl=component (https://www.inconferenc
 es.com/pl/o/565/konferencja-kazuistyka-cns-medforum.html?tmpl=component)
X-ALT-DESC;FMTTYPE=text/html: <a href="https://www.inconferences.com/pl/o/565/konferencja-kazuistyka-cns
 -medforum.html?tmpl=component">This event was imported from: https://www.in
 conferences.com/pl/o/565/konferencja-kazuistyka-cns-medforum.html?tmpl=comp
 onent</a>DTSTAMP:20260419T200302
DTSTART;VALUE=DATE:20250530
DTEND;VALUE=DATE:20250601
SEQUENCE:0
TRANSP:OPAQUE
END:VEVENT
END:VCALENDAR