BEGIN:VCALENDAR
VERSION:2.0
PRODID:-//jEvents 2.0 for Joomla//EN
CALSCALE:GREGORIAN
METHOD:PUBLISH
BEGIN:VEVENT
UID:15406ae488f6d6ef7aec126167ab5a9d
CATEGORIES:medycyna, farmacja, pielęgniarstwo, położnictwo, diagnostyka medyczna
CREATED:20250512T104850
SUMMARY:Kalendarz szkoleń, konferencji, kursów - IX Kliniczne Forum Ekspertów Polskiego Towarzystwa Alergologicznego
LOCATION:Focus Hotel Premium Warszawa
URL;VALUE=URI:https://www.inconferences.com/pl/o/575/ix-kliniczne-forum-ekspertow-polskie
 go-towarzystwa-alergologicznego.html?tmpl=component
DESCRIPTION:Z wielką przyjemnością zapraszamy do uczestnictwa w IX Klinicznym Forum Eks
 pertów Polskiego Towarzystwa Alergologicznego, które odbędzie się w dniach 
 16-18 października 2025 r. w Warszawie.\n„Nowoczesne terapie i aktualne wyt
 yczne w astmie i chorobach alergicznych” – to hasło będzie przyświecać nasz
 emu najbliższemu spotkaniu.\nZgodnie z hasłem Forum przedstawimy najnowsze 
 metody leczenia biologicznego, ale nie tylko w astmie – również w terapii p
 olipów nosa, AZS czy pokrzywki. Zajmiemy się także takimi tematami jak aler
 gia na leki, alergie pokarmowe, immunoterapia, alergie skórne, itd. Chcemy 
 przedstawić Państwu jako praktykom, to co może pomóc Państwu w pracy, co pr
 zyniesie ulgę pacjentowi i co poszerzy horyzonty w opanowaniu epidemii chor
 ób alergicznych. \n\nZachęcamy do zapoznania się ze szczegółami na stronie 
 internetowej wydarzenia: https://forum2025.pta.med.pl\n\n This event was im
 ported from: https://www.inconferences.com/pl/o/575/ix-kliniczne-forum-eksp
 ertow-polskiego-towarzystwa-alergologicznego.html?tmpl=component (https://w
 ww.inconferences.com/pl/o/575/ix-kliniczne-forum-ekspertow-polskiego-towarz
 ystwa-alergologicznego.html?tmpl=component)
X-ALT-DESC;FMTTYPE=text/html:<p>Z wielką przyjemnością zapraszamy do uczestnictwa w IX Klinicznym Forum 
 Ekspertów Polskiego Towarzystwa Alergologicznego, które odbędzie się w dnia
 ch 16-18 października 2025 r. w Warszawie.</p><p>„Nowoczesne terapie i aktu
 alne wytyczne w astmie i chorobach alergicznych” – to hasło będzie przyświe
 cać naszemu najbliższemu spotkaniu.</p><p>Zgodnie z hasłem Forum przedstawi
 my najnowsze metody leczenia biologicznego, ale nie tylko w astmie – równie
 ż w terapii polipów nosa, AZS czy pokrzywki. Zajmiemy się także takimi tema
 tami jak alergia na leki, alergie pokarmowe, immunoterapia, alergie skórne,
  itd. Chcemy przedstawić Państwu jako praktykom, to co może pomóc Państwu w
  pracy, co przyniesie ulgę pacjentowi i co poszerzy horyzonty w opanowaniu 
 epidemii chorób alergicznych. </p><p></p><p>Zachęcamy do zapoznania się ze 
 szczegółami na stronie internetowej wydarzenia: https://forum2025.pta.med.p
 l</p><p></p> <a href="https://www.inconferences.com/pl/o/575/ix-kliniczne-f
 orum-ekspertow-polskiego-towarzystwa-alergologicznego.html?tmpl=component">
 This event was imported from: https://www.inconferences.com/pl/o/575/ix-kli
 niczne-forum-ekspertow-polskiego-towarzystwa-alergologicznego.html?tmpl=com
 ponent</a>DTSTAMP:20260421T182732
DTSTART;VALUE=DATE:20251016
DTEND;VALUE=DATE:20251019
SEQUENCE:0
TRANSP:OPAQUE
END:VEVENT
END:VCALENDAR