BEGIN:VCALENDAR
VERSION:2.0
PRODID:-//jEvents 2.0 for Joomla//EN
CALSCALE:GREGORIAN
METHOD:PUBLISH
BEGIN:VEVENT
UID:1fd5f8ae74a5125fd6a6248b1da95a5d
CATEGORIES:medycyna
CREATED:20250904T145556
SUMMARY:Kalendarz szkoleń, konferencji, kursów - VIII PSYCHIATRIA DIALOGI INTERDYSCYPLINARNE
LOCATION:Hotel ibis Styles Wrocław Centrum
URL;VALUE=URI:https://www.inconferences.com/pl/o/617/viii-psychiatria-dialogi-interdyscyp
 linarne.html?tmpl=component
DESCRIPTION: This event was imported from: https://www.inconferences.com/pl/o/617/viii-
 psychiatria-dialogi-interdyscyplinarne.html?tmpl=component
X-ALT-DESC;FMTTYPE=text/html: <a href="https://www.inconferences.com/pl/o/617/viii-psychiatria-dialogi-i
 nterdyscyplinarne.html?tmpl=component">This event was imported from: https:
 //www.inconferences.com/pl/o/617/viii-psychiatria-dialogi-interdyscyplinarn
 e.html?tmpl=component</a>DTSTAMP:20260420T182126
DTSTART;VALUE=DATE:20251010
DTEND;VALUE=DATE:20251012
SEQUENCE:0
TRANSP:OPAQUE
END:VEVENT
END:VCALENDAR