BEGIN:VCALENDAR
VERSION:2.0
PRODID:-//jEvents 2.0 for Joomla//EN
CALSCALE:GREGORIAN
METHOD:PUBLISH
BEGIN:VEVENT
UID:62faa3bf1b61da1f18dde9671ba1c387
CATEGORIES:medycyna
CREATED:20250905T145404
SUMMARY:Kalendarz szkoleń, konferencji, kursów - BREAST DESIGN DAYS
LOCATION:DoubleTree by Hilton
URL;VALUE=URI:https://www.inconferences.com/pl/o/624/breast-design-days.html?tmpl=compone
 nt
DESCRIPTION: <a href="https://www.inconferences.com/pl/o/624/breast-design-days.html?tm
 pl=component">This event was imported from: https://www.inconferences.com/p
 l/o/624/breast-design-days.html?tmpl=component</a>DTSTAMP:20260420T135422
DTSTART;VALUE=DATE:20251024
DTEND;VALUE=DATE:20251026
SEQUENCE:0
TRANSP:OPAQUE
END:VEVENT
END:VCALENDAR