BEGIN:VCALENDAR
VERSION:2.0
PRODID:-//jEvents 2.0 for Joomla//EN
CALSCALE:GREGORIAN
METHOD:PUBLISH
BEGIN:VEVENT
UID:24e59d9bb40540726fd12e6eb4803fc8
CATEGORIES:medycyna
CREATED:20250905T145810
SUMMARY:Kalendarz szkoleń, konferencji, kursów - WARSZAWSKIE DNI NEUROLOGICZNE
LOCATION:Hotel Courtyard by Marriott Warsaw Airport
URL;VALUE=URI:https://www.inconferences.com/pl/o/625/warszawskie-dni-neurologiczne.html?t
 mpl=component
DESCRIPTION: This event was imported from: https://www.inconferences.com/pl/o/625/warsz
 awskie-dni-neurologiczne.html?tmpl=component (https://www.inconferences.com
 /pl/o/625/warszawskie-dni-neurologiczne.html?tmpl=component)
X-ALT-DESC;FMTTYPE=text/html: <a href="https://www.inconferences.com/pl/o/625/warszawskie-dni-neurologic
 zne.html?tmpl=component">This event was imported from: https://www.inconfer
 ences.com/pl/o/625/warszawskie-dni-neurologiczne.html?tmpl=component</a>DTSTAMP:20260421T162646
DTSTART;VALUE=DATE:20251024
DTEND;VALUE=DATE:20251026
SEQUENCE:0
TRANSP:OPAQUE
END:VEVENT
END:VCALENDAR