BEGIN:VCALENDAR
VERSION:2.0
PRODID:-//jEvents 2.0 for Joomla//EN
CALSCALE:GREGORIAN
METHOD:PUBLISH
BEGIN:VEVENT
UID:2c8d4b9b0111f031fba3eefa289594de
CATEGORIES:medycyna
CREATED:20250905T152110
SUMMARY:Kalendarz szkoleń, konferencji, kursów - XII HOT TOPICS DIABETOLOGIA
LOCATION:Mercure Gdynia Centrum
URL;VALUE=URI:https://www.inconferences.com/pl/o/632/xii-hot-topics-diabetologia.html?tmp
 l=component
DESCRIPTION: This event was imported from: https://www.inconferences.com/pl/o/632/xii-h
 ot-topics-diabetologia.html?tmpl=component (https://www.inconferences.com/p
 l/o/632/xii-hot-topics-diabetologia.html?tmpl=component)
X-ALT-DESC;FMTTYPE=text/html: <a href="https://www.inconferences.com/pl/o/632/xii-hot-topics-diabetologi
 a.html?tmpl=component">This event was imported from: https://www.inconferen
 ces.com/pl/o/632/xii-hot-topics-diabetologia.html?tmpl=component</a>DTSTAMP:20260419T182758
DTSTART;VALUE=DATE:20251121
DTEND;VALUE=DATE:20251123
SEQUENCE:0
TRANSP:OPAQUE
END:VEVENT
END:VCALENDAR