BEGIN:VCALENDAR
VERSION:2.0
PRODID:-//jEvents 2.0 for Joomla//EN
CALSCALE:GREGORIAN
METHOD:PUBLISH
BEGIN:VEVENT
UID:9162138dfed6df16787ce7470e8baeaf
CATEGORIES:medycyna
CREATED:20250905T153611
SUMMARY:Kalendarz szkoleń, konferencji, kursów - TOP ONCOLOGICAL TRENDS 2025
LOCATION:Novotel Katowice Centrum
URL;VALUE=URI:https://www.inconferences.com/pl/o/638/top-oncological-trends-2025.html?tmp
 l=component
DESCRIPTION: <a href="https://www.inconferences.com/pl/o/638/top-oncological-trends-202
 5.html?tmpl=component">This event was imported from: https://www.inconferen
 ces.com/pl/o/638/top-oncological-trends-2025.html?tmpl=component</a>DTSTAMP:20260421T131334
DTSTART;VALUE=DATE:20251128
DTEND;VALUE=DATE:20251130
SEQUENCE:0
TRANSP:OPAQUE
END:VEVENT
END:VCALENDAR