BEGIN:VCALENDAR
VERSION:2.0
PRODID:-//jEvents 2.0 for Joomla//EN
CALSCALE:GREGORIAN
METHOD:PUBLISH
BEGIN:VEVENT
UID:4da339cda9e79631cf56901699c816a5
CATEGORIES:medycyna
CREATED:20251107T160142
SUMMARY:Kalendarz szkoleń, konferencji, kursów - Polska Szkoła Hematologii – sesja jesienna
LOCATION:ONLINE
URL;VALUE=URI:https://www.inconferences.com/pl/o/651/polska-szkola-hematologii-sesja-jesi
 enna.html?tmpl=component
DESCRIPTION:Serdecznie zapraszamy do wzięcia udziału w konferencji online pt. „Polska S
 zkoła Hematoonkologii. Sesja jesienna”, która odbędzie się w dniach 17-19 l
 istopada 2025 r.\nTrzydniowy program konferencji obejmuje kompleksowe omówi
 enie najważniejszych chorób nowotworowych. Wydarzenie stanowi doskonałą oka
 zję do aktualizacji wiedzy zgodnie z najnowszymi standardami postępowania o
 raz zapoznania się z aktualnym kierunkiem rozwoju terapii stosowanych w hem
 atologii.\nSesje będą rozpoczynać się każdego dnia o godz. 18:00.\nZa udzia
 ł w wydarzeniu lekarzom i diagnostom laboratoryjnym zostaną przyznane punkt
 y edukacyjne.\nSzczegółowe informacje oraz możliwość rejestracji dostępne b
 ędą na stronie wydarzenia:\nhttps://hematoonkologia.pl/webinary/175-polska-
 szkola-hematologii-sesja-jesienna\nZapraszamy do udziału!\n This event was 
 imported from: https://www.inconferences.com/pl/o/651/polska-szkola-hematol
 ogii-sesja-jesienna.html?tmpl=component
X-ALT-DESC;FMTTYPE=text/html:<p>Serdecznie zapraszamy do wzięcia udziału w konferencji online pt. „Polsk
 a Szkoła Hematoonkologii. Sesja jesienna”, która odbędzie się w dniach 17-1
 9 listopada 2025 r.</p><p>Trzydniowy program konferencji obejmuje komplekso
 we omówienie najważniejszych chorób nowotworowych. Wydarzenie stanowi dosko
 nałą okazję do aktualizacji wiedzy zgodnie z najnowszymi standardami postęp
 owania oraz zapoznania się z aktualnym kierunkiem rozwoju terapii stosowany
 ch w hematologii.</p><p>Sesje będą rozpoczynać się każdego dnia o godz. 18:
 00.</p><p>Za udział w wydarzeniu lekarzom i diagnostom laboratoryjnym zosta
 ną przyznane punkty edukacyjne.</p><p>Szczegółowe informacje oraz możliwość
  rejestracji dostępne będą na stronie wydarzenia:</p><p>https://hematoonkol
 ogia.pl/webinary/175-polska-szkola-hematologii-sesja-jesienna</p><p>Zaprasz
 amy do udziału!</p> <a href="https://www.inconferences.com/pl/o/651/polska-
 szkola-hematologii-sesja-jesienna.html?tmpl=component">This event was impor
 ted from: https://www.inconferences.com/pl/o/651/polska-szkola-hematologii-
 sesja-jesienna.html?tmpl=component</a>DTSTAMP:20260422T214350
DTSTART;VALUE=DATE:20251117
DTEND;VALUE=DATE:20251120
SEQUENCE:0
TRANSP:OPAQUE
END:VEVENT
END:VCALENDAR