BEGIN:VCALENDAR
VERSION:2.0
PRODID:-//jEvents 2.0 for Joomla//EN
CALSCALE:GREGORIAN
METHOD:PUBLISH
BEGIN:VEVENT
UID:648ff675b57d43ac23da424716255ac9
CATEGORIES:medycyna
CREATED:20251119T155741
SUMMARY:Kalendarz szkoleń, konferencji, kursów - Rola multidyscyplinarnego zespołu (MDT) w diagnozowaniu, leczeniu i opiece pacjentów z neurofibromatozą typu 1 (NF1) - część II
LOCATION:ONLINE
URL;VALUE=URI:https://www.inconferences.com/pl/o/657/rola-multidyscyplinarnego-zespolu-md
 t-w-diagnozowaniu-leczeniu-i-opiece-pacjentow-z-neurofibromatoza-typu-1-nf1
 -czesc-ii.html?tmpl=component
DESCRIPTION:<p>Serdecznie zapraszamy do udziału w webinarze pt: "Rola multidyscyplinarn
 ego zespołu (MDT) w diagnozowaniu, leczeniu i opiece pacjentów z neurofibro
 matozą typu 1 (NF1) - część II", który odbędzie się 3 grudnia 2025 r. o god
 z. 18.00.</p><p>Podczas webinaru specjaliści wypowiedzą się na temat współp
 racy NFologa ze specjalistami z zakresu neurologii, ortopedii oraz neurochi
 rurgii z uwzględnieniem ich szczególnej roli w procesie diagnostycznym i te
 rapeutycznym nerwiakowłókniaków splotowatych w przebiegu NF1.</p><p>Szczegó
 łowe informacje oraz możliwość bezpłatnej rejestracji znajdują się na stron
 ie wydarzenia:</p><p>https://onkologia-dziecieca.pl/webinar/58-rola-multidy
 scyplinarnego-zespolu-mdt-w-diagnozowaniu-leczeniu-i-opiece-pacjentow-z-neu
 rofibromatoza-typu-1-nf1-czesc-ii</p> <a href="https://www.inconferences.co
 m/pl/o/657/rola-multidyscyplinarnego-zespolu-mdt-w-diagnozowaniu-leczeniu-i
 -opiece-pacjentow-z-neurofibromatoza-typu-1-nf1-czesc-ii.html?tmpl=componen
 t">This event was imported from: https://www.inconferences.com/pl/o/657/rol
 a-multidyscyplinarnego-zespolu-mdt-w-diagnozowaniu-leczeniu-i-opiece-pacjen
 tow-z-neurofibromatoza-typu-1-nf1-czesc-ii.html?tmpl=component</a>DTSTAMP:20260422T183253
DTSTART;VALUE=DATE:20251203
DTEND;VALUE=DATE:20251204
SEQUENCE:0
TRANSP:OPAQUE
END:VEVENT
END:VCALENDAR